BEGIN:VCALENDAR
VERSION:2.0
PRODID:-//wp-events-plugin.com//7.2.3.1//EN
TZID:America/North_Dakota/Center
X-WR-TIMEZONE:America/North_Dakota/Center
BEGIN:VEVENT
UID:1971@nebraskashooters.com
DTSTART;TZID=America/North_Dakota/Center:20260212T180000
DTEND;TZID=America/North_Dakota/Center:20260212T200000
DTSTAMP:20260204T185918Z
URL:https://www.nebraskashooters.com/events/workshop/
SUMMARY:Situational Awareness Workshop
DESCRIPTION:Situational Awareness Workshop\nIn today’s world\, situationa
 l awareness is no longer optional—it’s a critical life skill. That’s
  why Nebraska Shooters and the Right to Bear Association has come togeth
 er to invite community members\, leaders\, and safety-minded individuals t
 o attend an essential preparedness event:\n\n&nbsp\;\n\n“Eyes Up: Master
 ing Situational Awareness — Staying Safe in an Unpredictable World”\n\
 n📅 Date:  February 12\, 2026\n\n🕒 Time:  6pm-8pm\n\n📍 Location:
   Nebraska Shooters- 3200 Gage Rd\, Firth\, NE 68358\n\n&nbsp\;\n\nThis e
 ngaging\, real-world workshop is designed to equip you with the mindset\, 
 awareness\, and practical tools needed to identify potential threats early
 —and respond calmly and confidently when situations escalate.\n\n&nbsp\;
 \n\nParticipants will learn how small changes in awareness can dramaticall
 y reduce risk and increase personal safety in everyday environments.\n\n&n
 bsp\;\n\nTopics Include:\n\n 	Developing a proactive\, alert mindset\n 	Id
 entifying pre-incident warning signs\n 	Avoiding danger through situationa
 l awareness\n 	Effective response strategies in public and private spaces\
 n 	Real-world scenarios and key lessons learned\n\n&nbsp\;\n\nBy sharpenin
 g awareness today\, we build safer communities tomorrow.\n\n&nbsp\;\n\nSea
 ting is limited to ensure a focused and impactful experience.\n\n&nbsp\;\n
 \nPresented by DJ Shilling with Right to Bear\n\n&nbsp\;\n\nThe price is o
 nly $9.99 per seat.\n\n&nbsp\;
ATTACH;FMTTYPE=image/jpeg:https://www.nebraskashooters.com/wp-content/uplo
 ads/2024/02/RTB.jpg
CATEGORIES:Everything,Guest Instructor
LOCATION:Nebraska Shooters\, 3200 Gage Rd\, Firth\, Nebraska\, 68358\, Unit
 ed States
GEO:40.524337;-96.675525
X-APPLE-STRUCTURED-LOCATION;VALUE=URI;X-ADDRESS=3200 Gage Rd\, Firth\, Nebr
 aska\, 68358\, United States;X-APPLE-RADIUS=100;X-TITLE=Nebraska Shooters:
 geo:40.524337,-96.675525
END:VEVENT
BEGIN:VTIMEZONE
TZID:America/North_Dakota/Center
X-LIC-LOCATION:America/North_Dakota/Center
BEGIN:STANDARD
DTSTART:20251102T010000
TZOFFSETFROM:-0500
TZOFFSETTO:-0600
TZNAME:CST
END:STANDARD
END:VTIMEZONE
END:VCALENDAR