BEGIN:VCALENDAR
VERSION:2.0
PRODID:-//wp-events-plugin.com//7.2.3.1//EN
TZID:America/North_Dakota/Center
X-WR-TIMEZONE:America/North_Dakota/Center
BEGIN:VEVENT
UID:822@nebraskashooters.com
DTSTART;TZID=America/North_Dakota/Center:20190622T100000
DTEND;TZID=America/North_Dakota/Center:20190622T130000
DTSTAMP:20190524T155514Z
URL:https://www.nebraskashooters.com/events/womens-shooting-clinic-ogallal
 a-6-22-19/
SUMMARY:Womens shooting clinic- Ogallala-6-22-19
DESCRIPTION:Women practice and coaching session.\nCunducted by Jim McChesne
 y &amp\; Mike Mosel\nLocation: 1391 Rd East E N (Southeast of Lake McCona
 ughy)\n\nThis is a great opportunity for ladies who aren't quite ready to 
 jump into a class to get some time with their equipment in a safe environm
 ent with the assistance of two veteran instructors to help with any questi
 ons or marksmanship issues.\n\nIt is recommended that you bring 100 rounds
  of ammo and your favorite handgun with a dominant-side holster.  You wil
 l also need eye and hearing protection. \n\nThis is a free session\,  bu
 t we would appreciate it if everyone would register below so we have some 
 idea of how many to expect.\n\n&nbsp\;
ATTACH;FMTTYPE=image/jpeg:https://www.nebraskashooters.com/wp-content/uplo
 ads/2018/07/ComeSeeNS.jpg
CATEGORIES:Everything,Fun Shoot,Ogallala,Panhandle
LOCATION:Hidden Canyon Ranch\, 59R8+9W Keystone\, Ogallala\, Nebraska\, Uni
 ted States
GEO:41.191083;-101.631872
X-APPLE-STRUCTURED-LOCATION;VALUE=URI;X-ADDRESS=59R8+9W Keystone\, Ogallala
 \, Nebraska\, United States;X-APPLE-RADIUS=100;X-TITLE=Hidden Canyon Ranch
 :geo:41.191083,-101.631872
END:VEVENT
BEGIN:VTIMEZONE
TZID:America/North_Dakota/Center
X-LIC-LOCATION:America/North_Dakota/Center
BEGIN:DAYLIGHT
DTSTART:20190310T030000
TZOFFSETFROM:-0600
TZOFFSETTO:-0500
TZNAME:CDT
END:DAYLIGHT
END:VTIMEZONE
END:VCALENDAR