BEGIN:VCALENDAR
VERSION:2.0
PRODID:-//wp-events-plugin.com//7.2.3.1//EN
TZID:America/North_Dakota/Center
X-WR-TIMEZONE:America/North_Dakota/Center
BEGIN:VEVENT
UID:778@nebraskashooters.com
DTSTART;TZID=America/North_Dakota/Center:20190418T180000
DTEND;TZID=America/North_Dakota/Center:20190418T203000
DTSTAMP:20190313T203134Z
URL:https://www.nebraskashooters.com/events/vr-training/
SUMMARY:VR Training
DESCRIPTION:VR Training: Beyond the Target\nIn the split-second that a life
 -threatening incident occurs\, will you be able to remain calm and react u
 nder pressure?\n\nJoin self-defense instructor and former police officer A
 ustin Davis as he takes you through several scenarios designed to test you
 r reactions in stressful situations. You will also learn about the 3 kinds
  of 9-1-1 calls and 5 things to tell law enforcement after a shooting.\n\n
 The legal perspective of each scenario will be explained by an experienced
  Independent Program Attorney. This will help you navigate the legal after
 math of an incident.\nRegister today for VR Training: Beyond the Target. E
 ach event is different\, so you don't want to miss it. Sign up now.
ATTACH;FMTTYPE=image/jpeg:https://www.nebraskashooters.com/wp-content/uplo
 ads/2019/02/VR-Training.jpg
CATEGORIES:Everything,Southeast
LOCATION:Sesostris Shrine Center\, 1050 Saltillo Road\, Roca\, Nebraska\, 6
 8430\, United States
GEO:40.6999393;-96.70668990000001
X-APPLE-STRUCTURED-LOCATION;VALUE=URI;X-ADDRESS=1050 Saltillo Road\, Roca\,
  Nebraska\, 68430\, United States;X-APPLE-RADIUS=100;X-TITLE=Sesostris Shr
 ine Center:geo:40.6999393,-96.70668990000001
END:VEVENT
BEGIN:VTIMEZONE
TZID:America/North_Dakota/Center
X-LIC-LOCATION:America/North_Dakota/Center
BEGIN:DAYLIGHT
DTSTART:20190310T030000
TZOFFSETFROM:-0600
TZOFFSETTO:-0500
TZNAME:CDT
END:DAYLIGHT
END:VTIMEZONE
END:VCALENDAR