BEGIN:VCALENDAR
VERSION:2.0
PRODID:-//wp-events-plugin.com//7.2.3.1//EN
TZID:America/North_Dakota/Center
X-WR-TIMEZONE:America/North_Dakota/Center
BEGIN:VEVENT
UID:1935@nebraskashooters.com
DTSTART;TZID=America/North_Dakota/Center:20260808T120000
DTEND;TZID=America/North_Dakota/Center:20260808T170000
DTSTAMP:20250930T165634Z
URL:https://www.nebraskashooters.com/events/vfw-shootout-2026/
SUMMARY:VFW Shootout-2026
DESCRIPTION:On August 8th\, 2026 we will be holding the 14th Annual Cornhus
 ker Veteran Shootout which will be open to the public until the limited nu
 mber of slots are full.  Persons must be at least 14 years of age to comp
 ete.\nThis competition is designed to give no one a distinct advantage.  
 Course of fire is confidential until the shoot. There will be a wide varie
 ty of challenges with various firearms and projectile devices which are pr
 ovided so be prepared to have lots of fun. Cost is $60.00 and concessions 
 will be available.\nPlease bring your Eye and Ear Protection and be prepar
 ed to have a GREAT TIME!\nThe event will be held at Nebraska Shooters Rang
 e at 3200 Gage Rd Firth\, NE and the sign-up begins at 12:00 pm and shooti
 ng starts at 1:00 pm.\nThis shoot provided by Nebraska Shooters and VFW Po
 st 10648.
ATTACH;FMTTYPE=image/jpeg:https://www.nebraskashooters.com/wp-content/uplo
 ads/2016/01/VFW.jpg
CATEGORIES:Everything,Fun Shoot,Fund Raiser
LOCATION:Nebraska Shooters\, 3200 Gage Rd\, Firth\, Nebraska\, 68358\, Unit
 ed States
GEO:40.524337;-96.675525
X-APPLE-STRUCTURED-LOCATION;VALUE=URI;X-ADDRESS=3200 Gage Rd\, Firth\, Nebr
 aska\, 68358\, United States;X-APPLE-RADIUS=100;X-TITLE=Nebraska Shooters:
 geo:40.524337,-96.675525
END:VEVENT
BEGIN:VTIMEZONE
TZID:America/North_Dakota/Center
X-LIC-LOCATION:America/North_Dakota/Center
BEGIN:DAYLIGHT
DTSTART:20260308T030000
TZOFFSETFROM:-0600
TZOFFSETTO:-0500
TZNAME:CDT
END:DAYLIGHT
END:VTIMEZONE
END:VCALENDAR