BEGIN:VCALENDAR
VERSION:2.0
PRODID:-//wp-events-plugin.com//7.2.3.1//EN
TZID:America/North_Dakota/Center
X-WR-TIMEZONE:America/North_Dakota/Center
BEGIN:VEVENT
UID:565@nebraskashooters.com
DTSTART;TZID=America/North_Dakota/Center:20180408T120000
DTEND;TZID=America/North_Dakota/Center:20180408T170000
DTSTAMP:20171212T200527Z
URL:https://www.nebraskashooters.com/events/vfw-shootout-18/
SUMMARY:VFW Shootout
DESCRIPTION:\n	On April 8\, 2018 we will be holding the Sixth Annual Cornhu
 sker Veteran Shootout which will be open to the public until the limited n
 umber of slots are full.&nbsp\; All members of the VFW\, American Legion\,
  DAV\, Purple Hearts\, AM Veterans\, and especially those wanting to join 
 the veteran organization and their immediate family are encouraged to get 
 involved. (Persons must be at least 14 years of age to compete.)\n\n\n\n	T
 his competition is designed to give no one a distinct advantage.&nbsp\; Co
 urse of fire is confidential until the shoot. There will be a wide variety
  of challenges with various firearms and projectile devices&nbsp\;which ar
 e provided so be prepared to have lots of fun. Cost is $45.00 and concessi
 ons will be available.\n	The winner will get to shoot a full-auto and othe
 rs will have the opportunity for a small fee to cover ammo.\n\n\n\n	Please
  bring your Eye and Ear Protection and be prepared to have a GREAT TIME!\n
 \n\n\n	The event will be held at Nebraska Shooters Range at 3200 Gage Rd F
 irth\, NE and the sign-up begins at 12:00 pm and shooting starts at 1:00 p
 m.\n\n\n\n	This shoot provided by Nebraska Shooters and VFW Post 10648.\n\
 n
ATTACH;FMTTYPE=image/jpeg:https://www.nebraskashooters.com/wp-content/uplo
 ads/2016/01/VFW.jpg
CATEGORIES:Everything,Fund Raiser
LOCATION:Nebraska Shooters\, 3200 Gage Rd\, Firth\, Nebraska\, 68358\, Unit
 ed States
GEO:40.524337;-96.675525
X-APPLE-STRUCTURED-LOCATION;VALUE=URI;X-ADDRESS=3200 Gage Rd\, Firth\, Nebr
 aska\, 68358\, United States;X-APPLE-RADIUS=100;X-TITLE=Nebraska Shooters:
 geo:40.524337,-96.675525
END:VEVENT
BEGIN:VTIMEZONE
TZID:America/North_Dakota/Center
X-LIC-LOCATION:America/North_Dakota/Center
BEGIN:DAYLIGHT
DTSTART:20180311T030000
TZOFFSETFROM:-0600
TZOFFSETTO:-0500
TZNAME:CDT
END:DAYLIGHT
END:VTIMEZONE
END:VCALENDAR