BEGIN:VCALENDAR
VERSION:2.0
PRODID:-//wp-events-plugin.com//7.2.3.1//EN
TZID:America/North_Dakota/Center
X-WR-TIMEZONE:America/North_Dakota/Center
BEGIN:VEVENT
UID:814@nebraskashooters.com
DTSTART;TZID=America/North_Dakota/Center:20190705T173000
DTEND;TZID=America/North_Dakota/Center:20190705T203000
DTSTAMP:20190510T174624Z
URL:https://www.nebraskashooters.com/events/utah-non-resident-concealed-ca
 rry-training-2/
SUMMARY:Utah Non-Resident Concealed Carry Training
DESCRIPTION:Utah Non-Resident Concealed Firearm Permit\nInstructed by Dayle
  Hammock\n\nAs many of you know\, Utah's concealed firearm permit used to 
 the the Holy Grail of non-resident permits\, but as Nebraska gained states
  of reciprocity and Utah lost Minnesota's blessing we saw fewer and fewer 
 people signing up for the Utah class.  Currently\, the Utah Permit adds W
 ashington\, Georgia\, and Delaware to a Nebraska permit-holder's reciproci
 ty. For those who already have their Nebraska Permit and want to be able t
 o carry in WA\, GA\, or DE\, we are offering this evening course on July 5
 th\, 2019.\n\nThe class starts at 5:30 and does not require any live fire 
 or written test.  We should be able to cover the material in about 3 hour
 s.  The cost is only $35.  We will have the fingerprint cards available 
 so you will not need to schedule a trip to the state patrol and the applic
 ation can be submitted by mail.  You will just need to send a 2"x2" passp
 ort photo and $67 to the Utah Bureau of Criminal Investigation by mail.\n\
 n&nbsp\;
ATTACH;FMTTYPE=image/jpeg:https://www.nebraskashooters.com/wp-content/uplo
 ads/2018/04/cfp-instructor-patch.png
CATEGORIES:Everything,Southeast
LOCATION:Nebraska Shooters\, 3200 Gage Rd\, Firth\, Nebraska\, 68358\, Unit
 ed States
GEO:40.524337;-96.675525
X-APPLE-STRUCTURED-LOCATION;VALUE=URI;X-ADDRESS=3200 Gage Rd\, Firth\, Nebr
 aska\, 68358\, United States;X-APPLE-RADIUS=100;X-TITLE=Nebraska Shooters:
 geo:40.524337,-96.675525
END:VEVENT
BEGIN:VTIMEZONE
TZID:America/North_Dakota/Center
X-LIC-LOCATION:America/North_Dakota/Center
BEGIN:DAYLIGHT
DTSTART:20190310T030000
TZOFFSETFROM:-0600
TZOFFSETTO:-0500
TZNAME:CDT
END:DAYLIGHT
END:VTIMEZONE
END:VCALENDAR