BEGIN:VCALENDAR
VERSION:2.0
PRODID:-//wp-events-plugin.com//7.2.3.1//EN
TZID:America/North_Dakota/Center
X-WR-TIMEZONE:America/North_Dakota/Center
BEGIN:VEVENT
UID:817@nebraskashooters.com
DTSTART;TZID=America/North_Dakota/Center:20190624T183000
DTEND;TZID=America/North_Dakota/Center:20190624T203000
DTSTAMP:20190522T154911Z
URL:https://www.nebraskashooters.com/events/us-lawshield-legal-seminar-pan
 handle/
SUMMARY:US Lawshield Legal Seminar-Panhandle
DESCRIPTION:This will be held at the Hampton Inn and Suites 301 W Hwy 26\nS
 cottsbluff\, NE 69361\n\n\n\nWhy attend an event?\n\n 	Ignorance of the la
 w is not a legal excuse!\n 	The legal system can be very hostile toward gu
 n owners.\n 	Responsible gun owners get thrown into the legal system every
  single day.\n\n\n\nWhat topics will be explained at our events?\nOur even
 ts feature experienced attorneys\, law enforcement\, and other firearms pr
 ofessionals who cover a wide-range of topics such as the Castle Doctrine\,
  the justified use of deadly force\, where you can legally carry\, what to
  expect when law enforcement arrives\, and much more. Every event has dedi
 cated question-and-answer segments to ensure all attendees are able to get
  the information they want to know from a credible source they can trust.\
 n\n\n\nWhat materials are provided at the workshop?\nAll attendees will re
 ceive the U.S. Law Shield publication (When Can I Legally Shoot? Knowing T
 he Law Of Deadly Force\,) a $19.95 value\, FREE for registrants. This publ
 ication explains the ins-and-outs of the law of the deadly force in plain 
 language\, helping you understand when you are legally allowed to pull the
  trigger.\n\n\nPlease go to USLAWSHIELD to register
ATTACH;FMTTYPE=image/jpeg:https://www.nebraskashooters.com/wp-content/uplo
 ads/2018/10/home-section-6a.gif
CATEGORIES:Everything,Gering,Guest Instructor,Panhandle,Scottsbluff
END:VEVENT
BEGIN:VTIMEZONE
TZID:America/North_Dakota/Center
X-LIC-LOCATION:America/North_Dakota/Center
BEGIN:DAYLIGHT
DTSTART:20190310T030000
TZOFFSETFROM:-0600
TZOFFSETTO:-0500
TZNAME:CDT
END:DAYLIGHT
END:VTIMEZONE
END:VCALENDAR