BEGIN:VCALENDAR
VERSION:2.0
PRODID:-//wp-events-plugin.com//7.2.3.1//EN
TZID:America/North_Dakota/Center
X-WR-TIMEZONE:America/North_Dakota/Center
BEGIN:VEVENT
UID:826@nebraskashooters.com
DTSTART;TZID=America/North_Dakota/Center:20190629T130000
DTEND;TZID=America/North_Dakota/Center:20190629T150000
DTSTAMP:20190621T145026Z
URL:https://www.nebraskashooters.com/events/us-lawshield-legal-seminar-fir
 th/
SUMMARY:US Lawshield Legal Seminar-Firth
DESCRIPTION:This will be held at the Nebraska Shooters Training Facility at
  3200 Gage Rd Firth\, NE.  The speaker will be Dick Clark who is an attor
 ney from Lincoln\, NE.\n\n\n\nWhy attend an event?\n\n 	Ignorance of the l
 aw is not a legal excuse!\n 	The legal system can be very hostile toward g
 un owners.\n 	Responsible gun owners get thrown into the legal system ever
 y single day.\n\n\n\nWhat topics will be explained at our events?\nOur eve
 nts feature experienced attorneys\, law enforcement\, and other firearms p
 rofessionals who cover a wide-range of topics such as the Castle Doctrine\
 , the justified use of deadly force\, where you can legally carry\, what t
 o expect when law enforcement arrives\, and much more. Every event has ded
 icated question-and-answer segments to ensure all attendees are able to ge
 t the information they want to know from a credible source they can trust.
 \n\n\n\nWhat materials are provided at the workshop?\nAll attendees will r
 eceive the U.S. Law Shield publication (When Can I Legally Shoot? Knowing 
 The Law Of Deadly Force\,) a $19.95 value\, FREE for registrants. This pub
 lication explains the ins-and-outs of the law of the deadly force in plain
  language\, helping you understand when you are legally allowed to pull th
 e trigger.\n\n\n&nbsp\;
ATTACH;FMTTYPE=image/jpeg:https://www.nebraskashooters.com/wp-content/uplo
 ads/2018/10/home-section-6a.gif
CATEGORIES:Everything,Guest Instructor,Southeast
LOCATION:Nebraska Shooters\, 3200 Gage Rd\, Firth\, Nebraska\, 68358\, Unit
 ed States
GEO:40.524337;-96.675525
X-APPLE-STRUCTURED-LOCATION;VALUE=URI;X-ADDRESS=3200 Gage Rd\, Firth\, Nebr
 aska\, 68358\, United States;X-APPLE-RADIUS=100;X-TITLE=Nebraska Shooters:
 geo:40.524337,-96.675525
END:VEVENT
BEGIN:VTIMEZONE
TZID:America/North_Dakota/Center
X-LIC-LOCATION:America/North_Dakota/Center
BEGIN:DAYLIGHT
DTSTART:20190310T030000
TZOFFSETFROM:-0600
TZOFFSETTO:-0500
TZNAME:CDT
END:DAYLIGHT
END:VTIMEZONE
END:VCALENDAR