BEGIN:VCALENDAR
VERSION:2.0
PRODID:-//wp-events-plugin.com//7.2.3.1//EN
TZID:America/North_Dakota/Center
X-WR-TIMEZONE:America/North_Dakota/Center
BEGIN:VEVENT
UID:560@nebraskashooters.com
DTSTART;TZID=America/North_Dakota/Center:20180114T090000
DTEND;TZID=America/North_Dakota/Center:20180114T130000
DTSTAMP:20171202T004250Z
URL:https://www.nebraskashooters.com/events/threat-pattern-recognition/
SUMMARY:Threat Pattern Recognition
DESCRIPTION:\n	This course is designed to supplement and enhance existing f
 irearms training courses. The course is not designed to replace existing f
 irearms courses. Neither does this course advocate a specific firearms sho
 oting stance system. The course focuses on biology-based responses subsequ
 ent to time\, distance\, and cover in a firefight.\n\n\n\n	&nbsp\;\n\n\n\n
 	Course Objectives:\n\n\n\n	\n		&nbsp\;Identify the six (6) assailant draw
 s most often used during a fatal firefight.\n	\n	\n		&nbsp\;Identify the l
 ethal force micro-threat cues associated with each assailant lethal force 
 draw.\n	\n	\n		&nbsp\;Identify the visual pathways needed to enhance threa
 t identification and precision engagement.\n	\n	\n		&nbsp\;Identify the li
 mitations of the visual pathways at six and ten feet.\n	\n	\n		&nbsp\;Iden
 tify a simple tactical solution that will enhance an officer&#39\;s abilit
 y to evade\, verify the nature of the threat\, and engage with precision.\
 n	\n	\n		&nbsp\;Identify a simple tactical solution designed to enhance an
  assailant to miss a target.\n	\n	\n		&nbsp\;The course will address the m
 icro-nuances of targeting vectors\, the wobble effect\, and the challenges
  of precision using a simple system of economic lasers that can be impleme
 nted during training.\n	\n\n\n\n	&nbsp\;\n\n\n\n	Instructor:&nbsp\;Brent D
 . Craft\, CCT\n\n\n\n	&nbsp\;\n\n\n\n	&nbsp\;\n\n\n\n	Availability:&nbsp\;
 10-15 Participants\n\n\n\n	&nbsp\;\n\n\n\n	Location:&nbsp\;Nebraska Shoote
 rs\n\n\n\n	&nbsp\;\n\n\n\n	Date:&nbsp\;&nbsp\;&nbsp\;&nbsp\;&nbsp\;&nbsp\;
 &nbsp\;&nbsp\;&nbsp\;(4-Hour Course)\n\n\n\n	&nbsp\;\n\n\n\n	Cost:&nbsp\;$
 100.00 per student\n\n\n\n	&nbsp\;\n\n
CATEGORIES:Everything,Nebraska Shooters Range,Southeast
LOCATION:Nebraska Shooters\, 3200 Gage Rd\, Firth\, Nebraska\, 68358\, Unit
 ed States
GEO:40.524337;-96.675525
X-APPLE-STRUCTURED-LOCATION;VALUE=URI;X-ADDRESS=3200 Gage Rd\, Firth\, Nebr
 aska\, 68358\, United States;X-APPLE-RADIUS=100;X-TITLE=Nebraska Shooters:
 geo:40.524337,-96.675525
END:VEVENT
BEGIN:VTIMEZONE
TZID:America/North_Dakota/Center
X-LIC-LOCATION:America/North_Dakota/Center
BEGIN:STANDARD
DTSTART:20171105T010000
TZOFFSETFROM:-0500
TZOFFSETTO:-0600
TZNAME:CST
END:STANDARD
END:VTIMEZONE
END:VCALENDAR