BEGIN:VCALENDAR
VERSION:2.0
PRODID:-//wp-events-plugin.com//7.2.3.1//EN
TZID:America/North_Dakota/Center
X-WR-TIMEZONE:America/North_Dakota/Center
BEGIN:VEVENT
UID:1940@nebraskashooters.com
DTSTART;TZID=America/North_Dakota/Center:20260531T090000
DTEND;TZID=America/North_Dakota/Center:20260531T160000
DTSTAMP:20260407T195418Z
URL:https://www.nebraskashooters.com/events/tactical-hyve-concealed-carry-
 foundations/
SUMMARY:Tactical Hyve Concealed Carry Foundations
DESCRIPTION:What is the Concealed Carry Foundations class?\nConcealed Carry
  Foundations is a one-day training course designed to give you the essenti
 al skills every responsible concealed carrier must have: a fast\, consiste
 nt draw from concealment\, accurate first-shot hits\, and the ability to m
 ove “off the X” to avoid danger.\n\nThis is not just theory. You’ll 
 spend the day building habits through hands-on drills\, live fire exercise
 s\, and realistic defensive scenarios. By the end of class\, you’ll have
  the confidence to carry concealed knowing you can access your firearm qui
 ckly\, get accurate hits on target\, and move to safety under pressure.\n\
 n👉 If you’re still working on the basics of shooting—like consiste
 ntly hitting your target or managing your trigger control—we highly reco
 mmend you first take our Cheat Codes of Shooting™ 1 class happening th
 e day before this class. It will give you the foundation needed to get the
  most out of Concealed Carry Foundations.\n\nThis class is $350\n\nFree on
 -site accommodations available for students on a first come first serve ba
 sis.  Please contact us to reserve your spot in the bunkhouse at justin@n
 ebraskashooters.com.\n\nRegistrations for the class are through the Tactic
 al Hyve website at https://tacticalhyve.corsizio.com/event/690abdf3e5df27d
 0b0d8c6b7\n\n&nbsp\;
ATTACH;FMTTYPE=image/jpeg:https://www.nebraskashooters.com/wp-content/uplo
 ads/2025/11/Tactical-Hyve-tall-logo-V4-1200x1200-1.jpg
CATEGORIES:Everything,Guest Instructor
LOCATION:Nebraska Shooters\, 3200 Gage Rd\, Firth\, Nebraska\, 68358\, Unit
 ed States
GEO:40.524337;-96.675525
X-APPLE-STRUCTURED-LOCATION;VALUE=URI;X-ADDRESS=3200 Gage Rd\, Firth\, Nebr
 aska\, 68358\, United States;X-APPLE-RADIUS=100;X-TITLE=Nebraska Shooters:
 geo:40.524337,-96.675525
END:VEVENT
BEGIN:VTIMEZONE
TZID:America/North_Dakota/Center
X-LIC-LOCATION:America/North_Dakota/Center
BEGIN:DAYLIGHT
DTSTART:20260308T030000
TZOFFSETFROM:-0600
TZOFFSETTO:-0500
TZNAME:CDT
END:DAYLIGHT
END:VTIMEZONE
END:VCALENDAR