BEGIN:VCALENDAR
VERSION:2.0
PRODID:-//wp-events-plugin.com//7.2.3.1//EN
TZID:America/North_Dakota/Center
X-WR-TIMEZONE:America/North_Dakota/Center
BEGIN:VEVENT
UID:1939@nebraskashooters.com
DTSTART;TZID=America/North_Dakota/Center:20260530T090000
DTEND;TZID=America/North_Dakota/Center:20260530T160000
DTSTAMP:20260407T200041Z
URL:https://www.nebraskashooters.com/events/tactical-hyve-cheat-codes-of-s
 hooting/
SUMMARY:Tactical Hyve Cheat Codes of Shooting
DESCRIPTION:What is the Cheat Codes of Shooting™ 1 class?\nThe Cheat Code
 s of Shooting™ 1 is our most popular and widely raved about pistol clas
 s. It is a marksmanship class designed for beginner to advanced shooters t
 o improve their overall pistol shooting performance by taking a deep dive 
 into the core skills of shooting.\n\nIt varies from other classes in the i
 ndustry because we share the principles behind modern-day shooting techniq
 ues and share the cheat codes we’ve learned from training with over 100 
 different instructors in the past three years.\n\nKey learning points rega
 rding stance\, grip\, sight alignment\, sight picture\, and trigger press 
 will be taught and demonstrated to improve students’ understanding and a
 pplication of core skills\, followed by various exercises and drills to he
 lp students better execute all the techniques taught in the class.\n\n👉
  We highly recommend signing up for our Concealed Carry Foundations clas
 s\, which takes place the very next day after Cheat Codes of Shooting™ 1
 . This will give you even more valuable practice on the core skills you've
  just developed\, while also helping you become comfortable and confident 
 with the concealed draw and foundational movement. Not only will this rein
 force your skills\, but it will also better prepare you for Cheat Codes of
  Shooting™ 2.\n\nThis class is $350\n\nFree on-site accommodations avail
 able for students on a first come first serve basis.  Please contact us t
 o reserve a spot at justin@nebraskashooters.com.\n\nRegistrations for the 
 class are through the Tactical Hyve website at https://tacticalhyve.corsiz
 io.com/event/690abd78e5df27d0b0d84af1\n\n&nbsp\;
ATTACH;FMTTYPE=image/jpeg:https://www.nebraskashooters.com/wp-content/uplo
 ads/2025/11/cropped-tactical-hyve-logo.png
CATEGORIES:Everything,Guest Instructor
LOCATION:Nebraska Shooters\, 3200 Gage Rd\, Firth\, Nebraska\, 68358\, Unit
 ed States
GEO:40.524337;-96.675525
X-APPLE-STRUCTURED-LOCATION;VALUE=URI;X-ADDRESS=3200 Gage Rd\, Firth\, Nebr
 aska\, 68358\, United States;X-APPLE-RADIUS=100;X-TITLE=Nebraska Shooters:
 geo:40.524337,-96.675525
END:VEVENT
BEGIN:VTIMEZONE
TZID:America/North_Dakota/Center
X-LIC-LOCATION:America/North_Dakota/Center
BEGIN:DAYLIGHT
DTSTART:20260308T030000
TZOFFSETFROM:-0600
TZOFFSETTO:-0500
TZNAME:CDT
END:DAYLIGHT
END:VTIMEZONE
END:VCALENDAR