BEGIN:VCALENDAR
VERSION:2.0
PRODID:-//wp-events-plugin.com//7.2.3.1//EN
TZID:America/North_Dakota/Center
X-WR-TIMEZONE:America/North_Dakota/Center
BEGIN:VEVENT
UID:1979@nebraskashooters.com
DTSTART;TZID=America/North_Dakota/Center:20260426T140000
DTEND;TZID=America/North_Dakota/Center:20260426T170000
DTSTAMP:20260112T154039Z
URL:https://www.nebraskashooters.com/events/skills-and-drills-60/
SUMMARY:Skills and Drills
DESCRIPTION:SKILLS AND DRILLS\n\nThis is a great session to work on a varie
 ty of skills that you may not typically get a chance to practice at the ra
 nge on your own.  This is also a great preparatory session for those plan
 ning to attend an advanced level class.\n\nWe will be working on:\n\ntechn
 iques\nspeed\naccuracy\nshooting from cover\nshooting from various positio
 ns\nand much more\n\nWe will not be doing the same things every session\, 
 so you will benefit greatly from attending multiple sessions.  Times and 
 scores will be tracked so you can monitor your improvement.  Many of the 
 drills will be similar to the drills you will be doing in the advanced cla
 sses.\n\nThere are no prerequisites for this class\, but you should have a
  basic handle on range safety and bring a reliable handgun.  Please bring
  at least 200 rounds of ammunition\, a dominant side holster\, Eye and Ear
  protection.\n\nWe may be doing drills which ask you to kneel or shoot fro
 m the ground\, but any physical limitations will be accommodated.\n\n&nbsp
 \;\n\n&nbsp\;
CATEGORIES:Defensive Pistol,Everything,Nebraska Shooters Range,Skills and
 Drills,Southeast
LOCATION:Nebraska Shooters\, 3200 Gage Rd\, Firth\, Nebraska\, 68358\, Unit
 ed States
GEO:40.524337;-96.675525
X-APPLE-STRUCTURED-LOCATION;VALUE=URI;X-ADDRESS=3200 Gage Rd\, Firth\, Nebr
 aska\, 68358\, United States;X-APPLE-RADIUS=100;X-TITLE=Nebraska Shooters:
 geo:40.524337,-96.675525
END:VEVENT
BEGIN:VTIMEZONE
TZID:America/North_Dakota/Center
X-LIC-LOCATION:America/North_Dakota/Center
BEGIN:DAYLIGHT
DTSTART:20260308T030000
TZOFFSETFROM:-0600
TZOFFSETTO:-0500
TZNAME:CDT
END:DAYLIGHT
END:VTIMEZONE
END:VCALENDAR