BEGIN:VCALENDAR
VERSION:2.0
PRODID:-//wp-events-plugin.com//7.2.3.1//EN
TZID:America/North_Dakota/Center
X-WR-TIMEZONE:America/North_Dakota/Center
BEGIN:VEVENT
UID:1081@nebraskashooters.com
DTSTART;TZID=America/Denver:20200919T090000
DTEND;TZID=America/Denver:20200919T180000
DTSTAMP:20200917T135502Z
URL:https://www.nebraskashooters.com/events/sidney-ccw-9-19-20/
SUMMARY:Sidney-CCW-9-19-20
DESCRIPTION:Nebraska Concealed Handgun Training\n\nInstructed by Dustin and
  Renee Thomas\n\nThis is the course required by the State of Nebraska to s
 atisfy the training requirements to get your Concealed Handgun Permit (CHP
 ). After years of refinement our instructors have developed a course that 
 is easy for the new shooter to understand while still offering excellent i
 nformation to the experienced shooters. The Nebraska Conceal Handgun Train
 ing will meet requirements to get your Nebraska permit. Nebraska’s permi
 t will enable legal concealed carry in 34 states.  Check out the reciproc
 ity page for more details. This class will also meet the requirements for 
 Iowa or Colorado residents to get their concealed carry permit. This is a 
 non-NRA course taught by an NRA Certified Instructor in strict accordance 
 with a state-approved lesson plan. Feel free to contact Renee Thomas for m
 ore information at (308)249-1612.\n\nIt is required that you bring:\n\n 10
 0 rounds of ammo\n\nhandgun\n\ndominant-side holster &amp\; belt\n\neye an
 d hearing protection. (Prescription eyeglasses are acceptable)\n\n  If yo
 u need to borrow a handgun and holster\, we can provide you with the equip
 ment and you will just need to bring the ammunition.    Lunch and snacks
  are provided\, but you are always welcome to bring your own. (Remember\, 
 there are no restaurants nearby).\n\nYou also have the option of sticking 
 around to get your Minnesota Non-Resident training for an extra $20.  Thi
 s training is recognized by the State of Minnesota when applying for your 
 Minnesota Carry Permit. This permit will allow you to carry concealed or o
 pen when traveling through the state of Minnesota.\n\nGuarantee: As many o
 f you know\, there are instructors in Nebraska who are offering a quickie 
 course which does not cover the required material.  Our classes are guara
 nteed to cover the required material so there is no risk of you losing you
 r permit due to inadequate training. This also ensures that you have been 
 introduced to the legal responsibilities of carrying a firearm for self de
 fense which could easily save you a lot of trouble and hopefully keep you 
 out of court.\n\nIf you need to withdraw\, please give plenty of notice. 
  Read our REFUND POLICY HERE.\n\nEach student will need to register separa
 tely.  Each student needs to have their own email address. Please double 
 check your name as it appears on your driver's license because your certif
 icate will need to match exactly.  (Include middle name or initial if it 
 is on your DL)\n\nBring a friend and get a discount following THESE INSTRU
 CTIONS.
ATTACH;FMTTYPE=image/jpeg:https://www.nebraskashooters.com/wp-content/uplo
 ads/2018/07/ComeSeeNS.jpg
CATEGORIES:Everything,Nebraska Concealed Handgun Training,Panhandle,Sidney
 Renee and Dustin Thomas
LOCATION:Sidney\, 10795 Rd 28\, Sidney\, Nebraska\, 69162\, United States
GEO:41.1924364;-103.02057179999997
X-APPLE-STRUCTURED-LOCATION;VALUE=URI;X-ADDRESS=10795 Rd 28\, Sidney\, Nebr
 aska\, 69162\, United States;X-APPLE-RADIUS=100;X-TITLE=Sidney:geo:41.1924
 364,-103.02057179999997
END:VEVENT
BEGIN:VTIMEZONE
TZID:America/Denver
X-LIC-LOCATION:America/Denver
BEGIN:DAYLIGHT
DTSTART:20200308T030000
TZOFFSETFROM:-0700
TZOFFSETTO:-0600
TZNAME:MDT
END:DAYLIGHT
END:VTIMEZONE
END:VCALENDAR