BEGIN:VCALENDAR
VERSION:2.0
PRODID:-//wp-events-plugin.com//7.2.3.1//EN
TZID:America/North_Dakota/Center
X-WR-TIMEZONE:America/North_Dakota/Center
BEGIN:VEVENT
UID:1184@nebraskashooters.com
DTSTART;TZID=America/Denver:20210411T080000
DTEND;TZID=America/Denver:20210411T170000
DTSTAMP:20210409T031620Z
URL:https://www.nebraskashooters.com/events/sidney-ccw-4-11-20/
SUMMARY:Sidney-CCW-4-11-21
DESCRIPTION:Nebraska Concealed Handgun Training\n\nInstructed by Dustin and
  Renee Thomas\n\nThis is the course required by the State of Nebraska to s
 atisfy the training requirements to get your Concealed Handgun Permit (CHP
 ). After years of refinement our instructors have developed a course that 
 is easy for the new shooter to understand while still offering excellent i
 nformation to the experienced shooters. The Nebraska Conceal Handgun Train
 ing will meet requirements to get your Nebraska permit. Nebraska’s permi
 t will enable legal concealed carry in 34 states.  Check out the reciproc
 ity page for more details. This class will also meet the requirements for 
 Iowa or Colorado residents to get their concealed carry permit. This is a 
 non-NRA course taught by an NRA Certified Instructor in strict accordance 
 with a state-approved lesson plan. Feel free to contact Renee Thomas for m
 ore information at (308)249-1612.\n\nIt is required that you bring:\n\n 	 
 100 rounds of ammo\n 	handgun\n 	dominant-side holster &amp\; belt\n 	eye 
 and hearing protection. (Prescription eyeglasses are acceptable)\n\n  If 
 you need to borrow a handgun and holster\, we can provide you with the equ
 ipment and you will just need to bring the ammunition.    Snacks are pro
 vided\, but you need to bring a sack lunch. (Remember\, there are no resta
 urants nearby).\n\nYou also have the option of sticking around to get your
  Minnesota Non-Resident training for an extra $20.  This training is reco
 gnized by the State of Minnesota when applying for your Minnesota Carry Pe
 rmit. This permit will allow you to carry concealed or open when traveling
  through the state of Minnesota.\n\nGuarantee: As many of you know\, there
  are instructors in Nebraska who are offering a quickie course which does 
 not cover the required material.  Our classes are guaranteed to cover the
  required material so there is no risk of you losing your permit due to in
 adequate training. This also ensures that you have been introduced to the 
 legal responsibilities of carrying a firearm for self defense which could 
 easily save you a lot of trouble and hopefully keep you out of court.\n\nI
 f you need to withdraw\, please give plenty of notice.  Read our REFUND P
 OLICY HERE.\n\nEach student will need to register separately.  Each stude
 nt needs to have their own email address. Please double check your name as
  it appears on your driver's license because your certificate will need to
  match exactly.  (Include middle name or initial if it is on your DL)\n\n
 &nbsp\;
ATTACH;FMTTYPE=image/jpeg:https://www.nebraskashooters.com/wp-content/uplo
 ads/2018/07/ComeSeeNS.jpg
CATEGORIES:Everything,Nebraska Concealed Handgun Training,Panhandle,Sidney
 Renee and Dustin Thomas
LOCATION:Sidney\, 10795 Rd 28\, Sidney\, Nebraska\, 69162\, United States
GEO:41.1924364;-103.02057179999997
X-APPLE-STRUCTURED-LOCATION;VALUE=URI;X-ADDRESS=10795 Rd 28\, Sidney\, Nebr
 aska\, 69162\, United States;X-APPLE-RADIUS=100;X-TITLE=Sidney:geo:41.1924
 364,-103.02057179999997
END:VEVENT
BEGIN:VTIMEZONE
TZID:America/Denver
X-LIC-LOCATION:America/Denver
BEGIN:DAYLIGHT
DTSTART:20210314T030000
TZOFFSETFROM:-0700
TZOFFSETTO:-0600
TZNAME:MDT
END:DAYLIGHT
END:VTIMEZONE
END:VCALENDAR