BEGIN:VCALENDAR
VERSION:2.0
PRODID:-//wp-events-plugin.com//7.2.3.1//EN
TZID:America/North_Dakota/Center
X-WR-TIMEZONE:America/North_Dakota/Center
BEGIN:VEVENT
UID:1183@nebraskashooters.com
DTSTART;TZID=America/Denver:20210221T080000
DTEND;TZID=America/Denver:20210221T170000
DTSTAMP:20210219T213516Z
URL:https://www.nebraskashooters.com/events/sidney-ccw-2-21-20/
SUMMARY:Sidney-CCW-2-21-21
DESCRIPTION:Nebraska Concealed Handgun Training\n\nThe bookings for this cl
 ass have been closed.  Please consider one of the other options in the cl
 ass list at the bottom of the page.  Thanks You!\n\nInstructed by Dustin 
 and Renee Thomas\n\nThis is the course required by the State of Nebraska t
 o satisfy the training requirements to get your Concealed Handgun Permit (
 CHP). After years of refinement our instructors have developed a course th
 at is easy for the new shooter to understand while still offering excellen
 t information to the experienced shooters. The Nebraska Conceal Handgun Tr
 aining will meet requirements to get your Nebraska permit. Nebraska’s pe
 rmit will enable legal concealed carry in 34 states.  Check out the recip
 rocity page for more details. This class will also meet the requirements f
 or Iowa or Colorado residents to get their concealed carry permit. This is
  a non-NRA course taught by an NRA Certified Instructor in strict accordan
 ce with a state-approved lesson plan. Feel free to contact Renee Thomas fo
 r more information at (308)249-1612.\n\nIt is required that you bring:\n\n
  	 100 rounds of ammo\n 	handgun\n 	dominant-side holster &amp\; belt\n 	e
 ye and hearing protection. (Prescription eyeglasses are acceptable)\n\n  
 If you need to borrow a handgun and holster\, we can provide you with the 
 equipment and you will just need to bring the ammunition.    Lunch and s
 nacks are provided\, but you are always welcome to bring your own. (Rememb
 er\, there are no restaurants nearby).\n\nYou also have the option of stic
 king around to get your Minnesota Non-Resident training for an extra $20. 
  This training is recognized by the State of Minnesota when applying for 
 your Minnesota Carry Permit. This permit will allow you to carry concealed
  or open when traveling through the state of Minnesota.\n\nGuarantee: As m
 any of you know\, there are instructors in Nebraska who are offering a qui
 ckie course which does not cover the required material.  Our classes are 
 guaranteed to cover the required material so there is no risk of you losin
 g your permit due to inadequate training. This also ensures that you have 
 been introduced to the legal responsibilities of carrying a firearm for se
 lf defense which could easily save you a lot of trouble and hopefully keep
  you out of court.\n\nIf you need to withdraw\, please give plenty of noti
 ce.  Read our REFUND POLICY HERE.\n\nEach student will need to register s
 eparately.  Each student needs to have their own email address. Please do
 uble check your name as it appears on your driver's license because your c
 ertificate will need to match exactly.  (Include middle name or initial i
 f it is on your DL)\n\n&nbsp\;
ATTACH;FMTTYPE=image/jpeg:https://www.nebraskashooters.com/wp-content/uplo
 ads/2018/07/ComeSeeNS.jpg
CATEGORIES:Everything,Nebraska Concealed Handgun Training,Panhandle,Sidney
 Renee and Dustin Thomas
LOCATION:Sidney\, 10795 Rd 28\, Sidney\, Nebraska\, 69162\, United States
GEO:41.1924364;-103.02057179999997
X-APPLE-STRUCTURED-LOCATION;VALUE=URI;X-ADDRESS=10795 Rd 28\, Sidney\, Nebr
 aska\, 69162\, United States;X-APPLE-RADIUS=100;X-TITLE=Sidney:geo:41.1924
 364,-103.02057179999997
END:VEVENT
BEGIN:VTIMEZONE
TZID:America/Denver
X-LIC-LOCATION:America/Denver
BEGIN:STANDARD
DTSTART:20201101T010000
TZOFFSETFROM:-0600
TZOFFSETTO:-0700
TZNAME:MST
END:STANDARD
END:VTIMEZONE
END:VCALENDAR