BEGIN:VCALENDAR
VERSION:2.0
PRODID:-//wp-events-plugin.com//7.2.3.1//EN
TZID:America/North_Dakota/Center
X-WR-TIMEZONE:America/North_Dakota/Center
BEGIN:VEVENT
UID:487@nebraskashooters.com
DTSTART;TZID=America/North_Dakota/Center:20171117T173000
DTEND;TZID=America/North_Dakota/Center:20171118T170000
DTSTAMP:20170719T212749Z
URL:https://www.nebraskashooters.com/events/sheepdog-seminar-lt-col-dave-g
 rossman/
SUMMARY:Sheepdog Seminar- Lt. Col. Dave Grossman
DESCRIPTION:\n	SHEEPDOG SEMINAR &nbsp\; &nbsp\; &nbsp\; &nbsp\;&nbsp\;OMAHA
 \, NEBRASKA\n\n\n\n	DATE:&nbsp\;NOVEMBER 17-18 &nbsp\; &nbsp\; &nbsp\; &nb
 sp\;(FRIDAY &amp\; SATURDAY)\n\n\n\n	LOCATION:&nbsp\;BROOKSIDE CHURCH &nbs
 p\; &nbsp\; &nbsp\; &nbsp\; &nbsp\; &nbsp\; &nbsp\; &nbsp\; &nbsp\; 11607 
 M CIRCLE &nbsp\; &nbsp\; &nbsp\; &nbsp\; &nbsp\; &nbsp\; &nbsp\; &nbsp\; &
 nbsp\; OMAHA\, NE - 68137 &nbsp\;\n\n\n\n	SPEAKERS:\n\n\n\n	\n		\n			LT. C
 OL. DAVE GROSSMAN\n		\n	\n	\n		\n			RETIRED POLICE OFFICER AND MINISTER JI
 MMY MEEKS\n		\n	\n	\n		\n			CARL CHINN\n		\n	\n\n\n\n	TIMES:&nbsp\;FRIDAY 
 NIGHT\, 7:00 - 9:00 (Optional Movie- &quot\;Faith Under Fire&quot\;)\n	&nb
 sp\;&nbsp\; &nbsp\; &nbsp\; &nbsp\; &nbsp\; &nbsp\; SATURDAY\, 8:00 A.M. -
  5:00 P.M. (Seminar)\n\n\n\n	REGISTRATION INSTRUCTIONS\n\n\n\n	\n		Price i
 s $69.00&nbsp\;through September 1 - then increases.\n	\n	\n		Police Offic
 ers: bring a guest at NO additional charge (officers:&nbsp\;register yours
 elf but do&nbsp\;NOT&nbsp\;register your guest - we will get their name at
  the seminar. Thus if you&#39\;re going to bring 6 officers\, only registe
 r 3). &nbsp\;\n	\n\n\n\n	Please go to&nbsp\;http://www.sheepdogsafetytrain
 ing.com/nebraskashooters to sign up for this event.\n\n\n\n	About Lt. Col.
  Dave Grossman&nbsp\;(Ret.)\n\n\n\n	\n\n\n\n	SuedePhotography.com\n\n\n\n	
 Lt. Col. Grossman is a director of Sheepdog Seminars Group International. 
 He is also a director of Warrior Science Group\, owner of&nbsp\;www.killol
 ogy.com\, member of American Board for Certification in Homeland Security 
 and a member of American College of Forensic Examiners. Lt. Col. Grossman 
 is an internationally recognized scholar\, author\, soldier and speaker wh
 o is one of the world&rsquo\;s foremost experts in the field of human aggr
 ession and the roots of violence and violent crime.\n\n\n\n	Col. Grossman 
 is a former West Point psychology professor\, Professor of Military Scienc
 e\, and an Army Ranger who has combined his experiences to become the foun
 der of a new field of scientific endeavor\, which has been termed &ldquo\;
 killology.&rdquo\; In this new field Col. Grossman has made revolutionary 
 new contributions to our understanding of killing in war\, the psychologic
 al costs of war\, the root causes of the current &ldquo\;virus&rdquo\; of 
 violent crime that is raging around the world\, and the process of healing
  the victims of violence\, in war and peace. He is the author of On Killin
 g\, which was nominated for a Pulitzer Prize\; has been translated into Ja
 panese\, Korean\, and German\; is on the U.S. Marine Corps Commandant&rsqu
 o\;s required reading list\; and is required reading at the FBI academy an
 d numerous other academies and colleges. Col. Grossman co-authored Stop Te
 aching Our Kids to Kill: A Call to Action Against TV\, Movie and Video Gam
 e Violence\, which has been translated into Norwegian and German\, and has
  received international acclaim. Col. Grossman&rsquo\;s most recent book\,
 &nbsp\;On Combat\, has also placed on the U.S. Marine Corps Commandant&rsq
 uo\;s Required Reading List and has been translated into Japanese and Kore
 an.\n\n\n\n	Col. Grossman has been called upon to write the entry on &ldqu
 o\;Aggression and Violence&rdquo\; in the Oxford Companion to American Mil
 itary History\, three entries in the Academic Press Encyclopedia of Violen
 ce and numerous entries in scholarly journals\, to include the Harvard Jou
 rnal of Law and Public Policy.\n\n\n\n	He has presented papers before the 
 national conventions of the American Medical Association\, the American Ps
 ychiatric Association\, the American Psychological Association\, and the A
 merican Academy of Pediatrics.\n\n\n\n	He has presented to over 100 differ
 ent colleges and universities worldwide\, and has trained educators and la
 w enforcement professionals\, in the field of school safety\, at the state
  and regional level\, in all 50 states and over a dozen foreign nations.\n
 \n\n\n	He helped train mental health professionals after the Jonesboro sch
 ool massacre\, and he was also involved in counseling or court cases in th
 e aftermath of the Paducah\, Springfield\, Littleton\, Virginia Tech\, and
  Nickel Mines Amish school massacres.He has been an expert witness and con
 sultant in state and Federal courts\, to include serving on the prosecutio
 n team in UNITED STATES vs. TIMOTHY MCVEIGH.\n\n\n\n	He has testified befo
 re U.S. Senate and Congressional committees and numerous state legislature
 s\, and he and his research have been cited in a national address by the P
 resident of the United States.\n\n\n\n	Col. Grossman is an Airborne Ranger
  infantry officer\, and a prior-service sergeant and paratrooper\, with a 
 total of over 23 years experience in leading U.S. soldiers worldwide. He r
 etired from the Army in February 1998 and has devoted himself to teaching\
 , writing\, speaking\, and research. Today he is the director of the Killo
 logy Research Group\, and in the wake of the 9/11 terrorist attacks he is 
 on the road almost 300 days a year\, training elite military and law enfor
 cement organizations as well as civilian seminar attendees worldwide about
  the reality of armed aggression.\n\n\n\n	About Police Officer &amp\; Mini
 ster&nbsp\;Jimmy Meeks\n\n\n\n	\n\n\n\n	SuedePhotography.com\n\n\n\n	Jimmy
  Meeks is a retired police officer\, having served 35 years in law-enforce
 ment. Jimmy has also been a minister for over 42 years. As an officer\,&nb
 sp\;he served as a hostage negotiator\, field training officer\, school re
 source officer\, detective\, supervisor\, and crime prevention officer. He
  has accumulated dover 4500 hours of TCOLE training. He has also been a ce
 rtified crime prevention specialist.\n\n\n\n	He was pastor of a church in 
 the Ft. Worth area for over 11 years\, while also serving as a police offi
 cer. Jimmy has a B.A. in Religion from Oklahoma Baptist University and a C
 ertificate of Ministry from Emmaus Road Ministry School. He has conducted 
 over 100 church safety seminars since 2009\, at which over a thousand chur
 ches have attended. It has been said of his presentation\, &quot\;...there
  has never been a stronger call to action...&quot\;\n\n\n\n	Jimmy and his 
 wife of 35 years\, Julie\, were married at the First Baptist Church of Dai
 ngerfield\, Texas\, the site&nbsp\;of the June 22\, 1980 massacre that kil
 led 5 - and injured 10.\n\n\n\n	About Carl Chinn\n\n\n\n	\n\n\n\n	SuedePho
 tography.com\n\n\n\n	Speaker Carl Chinn\, Author and nationally recognized
  expert on church violence was a First Responder at the New Life Church sh
 ooting in Colorado and was a hostage and negotiator in the Focus on the Fa
 mily incident.\n\n\n\n	&nbsp\;In 1996 Carl Chinn was a responder in a stan
 doff with an angry gunman who took hostages at the&nbsp\;Focus on the Fami
 ly&nbsp\;ministry. Following the attacker&rsquo\;s trial\, Chinn began res
 earching and writing on the subject of criminal and other incidents in Nor
 th American ministries. In 2005\, he and others began to develop an intent
 ional security program for New Life Church in Colorado Springs\, CO. He wa
 s one of the team of responders directly involved with the active shooter 
 on 12/09/2007. He continues to serve New Life security as the threat inves
 tigator and liaison between law enforcement and ministry security operatio
 ns.\n\n\n\n	ABOUT &quot\;FAITH UNDER FIRE&quot\;\n\n\n\n	Faith Under Fire 
 is a true story of God&#39\;s presence in the midst of suffering. It is a 
 story of a community&rsquo\;s struggle with betrayal\, the shock to their 
 faith\, and the death of loved ones after a former schoolteacher opens fir
 e during a church service in the summer of 1980. It is also a tribute to f
 our brave men that raced into the face of gunfire\, saving the lives of hu
 ndreds of people.&nbsp\;Thirty years after that tragic day\, survivors sha
 re their journey to heal. A pastor\, who&#39\;s small child was killed tha
 t day\, reveals publicly for the first time his shocking plans to murder t
 he gunman during court proceedings. The anger\, rage and guilt he carries 
 for thirty years cost him nearly everything. The assassin&#39\;s family re
 veals shocking secrets that pushed him to commit this terrible act. Ultima
 tely\,&nbsp\;Faith Under Fire is a story of faith and hope leading a commu
 nity out of the depths of despair to the path of forgiveness and restorati
 on and ultimately peace. Winner of numerous awards.\n\n\n\n	&quot\;This st
 ory of faith is remarkable.&quot\;&nbsp\;\n	The Dove Foundation.\n\n\n\n	&
 quot\;I have never been so moved by a documentary...The hope and healing i
 t brings to the soul is amazing&quot\;&nbsp\;- Rebecca\n\n\n\n	&quot\;Than
 k you for giving the world a film with such a heartfelt reward of healing.
 &quot\;&nbsp\;- Roxy\n\n\n\n	&quot\;Mrs. Hicks deserves every award availa
 ble for her masterful production. I highly recommend this to all ages...&q
 uot\;&nbsp\;- Pansy\n\n
ATTACH;FMTTYPE=image/jpeg:https://www.nebraskashooters.com/wp-content/uplo
 ads/2017/07/Sheepdog.png
CATEGORIES:Everything
LOCATION:Brookside Church\, 11607 M CIRCLE\, Omaha\, 11607 M Circle\, 68137
 \, United States
GEO:41.20838810000001;-96.09503029999996
X-APPLE-STRUCTURED-LOCATION;VALUE=URI;X-ADDRESS=11607 M CIRCLE\, Omaha\, 11
 607 M Circle\, 68137\, United States;X-APPLE-RADIUS=100;X-TITLE=Brookside 
 Church:geo:41.20838810000001,-96.09503029999996
END:VEVENT
BEGIN:VTIMEZONE
TZID:America/North_Dakota/Center
X-LIC-LOCATION:America/North_Dakota/Center
BEGIN:STANDARD
DTSTART:20171105T010000
TZOFFSETFROM:-0500
TZOFFSETTO:-0600
TZNAME:CST
END:STANDARD
END:VTIMEZONE
END:VCALENDAR