BEGIN:VCALENDAR
VERSION:2.0
PRODID:-//wp-events-plugin.com//7.2.3.1//EN
TZID:America/North_Dakota/Center
X-WR-TIMEZONE:America/North_Dakota/Center
BEGIN:VEVENT
UID:1115@nebraskashooters.com
DTSTART;TZID=America/North_Dakota/Center:20211024T110000
DTEND;TZID=America/North_Dakota/Center:20211024T170000
DTSTAMP:20210826T121951Z
URL:https://www.nebraskashooters.com/events/sesostris-fun-shoot-5/
SUMMARY:Sesostris Fun Shoot
DESCRIPTION:The Sesostris Gun Club is hosting a Fun Shoot\nOpen to the publ
 ic!\nWe are providing all of the guns and ammo for anyone wanting to spend
  the afternoon shooting in a friendly competition and win some prizes.  $
 50 covers the safety orientation\, one entry fee to shoot all of the stati
 ons and lunch.  You can buy more tickets if you want to go through the st
 ations again and there will be side competitions as well.  \n\nYou will a
 lso have an opportunity to test your artistic skills of pumpkin carving wi
 th a handgun for $10 per pumpkin and the carvings will be judged at the en
 d. There will be a limited number of pumpkins so please reserve your pump
 kin(s) when signing up below. \n\n&nbsp\;\n\nDon't worry about bringing a 
 gun or ammo since it is all provided and it will be a great chance to tes
 t your skills in a very safe environment!\n\nWe will start check-in and re
 gistrations at 11:00 and registrations will be closed at 12:00.  We will 
 serve lunch and during the range safety briefing.  Lunch is included with
  your registration.\n\nAny minors must be accompanied by an adult.  Kids 
 12 and up can participate.\n\nEARLY BIRD SPECIAL. Anyone who registers and
  pays before 10/19/21 will get one free $10 entry in the pumpkin carving c
 ompetition!\n\nThis is a rain or shine fundraiser. Please dress appropriat
 ely for the weather. There will be no refunds. Thanks for your support!
ATTACH;FMTTYPE=image/jpeg:https://www.nebraskashooters.com/wp-content/uplo
 ads/2016/09/Shriners.png
CATEGORIES:Everything,Fun Shoot,Fund Raiser
LOCATION:Nebraska Shooters\, 3200 Gage Rd\, Firth\, Nebraska\, 68358\, Unit
 ed States
GEO:40.524337;-96.675525
X-APPLE-STRUCTURED-LOCATION;VALUE=URI;X-ADDRESS=3200 Gage Rd\, Firth\, Nebr
 aska\, 68358\, United States;X-APPLE-RADIUS=100;X-TITLE=Nebraska Shooters:
 geo:40.524337,-96.675525
END:VEVENT
BEGIN:VTIMEZONE
TZID:America/North_Dakota/Center
X-LIC-LOCATION:America/North_Dakota/Center
BEGIN:DAYLIGHT
DTSTART:20210314T030000
TZOFFSETFROM:-0600
TZOFFSETTO:-0500
TZNAME:CDT
END:DAYLIGHT
END:VTIMEZONE
END:VCALENDAR