BEGIN:VCALENDAR
VERSION:2.0
PRODID:-//wp-events-plugin.com//7.2.3.1//EN
TZID:America/North_Dakota/Center
X-WR-TIMEZONE:America/North_Dakota/Center
BEGIN:VEVENT
UID:495@nebraskashooters.com
DTSTART;TZID=America/North_Dakota/Center:20171029T130000
DTEND;TZID=America/North_Dakota/Center:20171029T190000
DTSTAMP:20171003T135242Z
URL:https://www.nebraskashooters.com/events/sesostris-fun-shoot-2/
SUMMARY:Sesostris Fun Shoot
DESCRIPTION:\n	The Sesostris Gun Club is hosting a Fun Shoot\n	Open to the 
 public!\n\n\n\n	We are providing all of the guns and ammo for anyone wanti
 ng to spend the afternoon shooting all sorts of guns in a friendly competi
 tion and possibly win some prizes. &nbsp\;$30 covers the safety orientatio
 n\, one&nbsp\;entry fee to shoot all of the stations and a meal. &nbsp\;Yo
 u can buy more tickets if you want to go through the stations again and th
 ere will be side competitions as well. &nbsp\;\n\n\n\n	You will also have 
 an opportunity to test your artistic skills of pumpkin carving with a hand
 gun and the carvings will be judged at the end.&nbsp\;There will be a limi
 ted number of pumkins so please reserve your pumpkin(s) when siging up bel
 ow. \n\n\n\n	We will also have several fully automatic firearms available 
 for those who want to feel some real freedom and cut some rounds loose at 
 high speed! &nbsp\;These will be $20 per magazine so reserve enough to try
  each model twice.\n\n\n\n	&nbsp\;\n\n\n\n	Don&#39\;t worry about bringing
  a gun or ammo&nbsp\;since it is all provided and it will be a great chanc
 e to use many types of firearms in a very safe environment!\n\n\n\n	We wil
 l wrap up the shooting with a picnic dinner and some socializing with frie
 nds.&nbsp\; Dinner is included with your ticket.\n\n
ATTACH;FMTTYPE=image/jpeg:https://www.nebraskashooters.com/wp-content/uplo
 ads/2016/09/Shriners.png
CATEGORIES:Everything,Fun Shoot,Fund Raiser
LOCATION:Nebraska Shooters\, 3200 Gage Rd\, Firth\, Nebraska\, 68358\, Unit
 ed States
GEO:40.524337;-96.675525
X-APPLE-STRUCTURED-LOCATION;VALUE=URI;X-ADDRESS=3200 Gage Rd\, Firth\, Nebr
 aska\, 68358\, United States;X-APPLE-RADIUS=100;X-TITLE=Nebraska Shooters:
 geo:40.524337,-96.675525
END:VEVENT
BEGIN:VTIMEZONE
TZID:America/North_Dakota/Center
X-LIC-LOCATION:America/North_Dakota/Center
BEGIN:DAYLIGHT
DTSTART:20170312T030000
TZOFFSETFROM:-0600
TZOFFSETTO:-0500
TZNAME:CDT
END:DAYLIGHT
END:VTIMEZONE
END:VCALENDAR