BEGIN:VCALENDAR
VERSION:2.0
PRODID:-//wp-events-plugin.com//7.2.3.1//EN
TZID:America/North_Dakota/Center
X-WR-TIMEZONE:America/North_Dakota/Center
BEGIN:VEVENT
UID:812@nebraskashooters.com
DTSTART;TZID=America/North_Dakota/Center:20190705T080000
DTEND;TZID=America/North_Dakota/Center:20190705T120000
DTSTAMP:20190510T212730Z
URL:https://www.nebraskashooters.com/events/refuse-to-be-a-victim-5/
SUMMARY:Refuse To Be a Victim (With instructor option)
DESCRIPTION:Refuse To Be A Victim® (RTBAV) Seminars teach methods to avo
 id dangerous situations and prevent criminal confrontations.  Experts agr
 ee the most important factor in surviving a criminal attack is to have an 
 overall safety strategy before you need it.  Seminar topics address perso
 nal safety issues as well as home\, automobile\, telephone\, technological
 \, and travel security.  Seminar participants are presented with a variet
 y of common‑sense crime prevention and personal safety strategies and de
 vices they may integrate into their daily lives.\nRefuse To Be A Victim® 
 was developed by the National Rifle Association in 1993 in response to nat
 ionwide requests for crime prevention seminars. The program has been endor
 sed by members of the law enforcement community nationwide\, such as Janic
 e Hart\, Certified Crime Prevention Specialist and Refuse To Be A Victim®
  Certified Instructor of Front Royal\, Virginia.  She said\, "Crime Preve
 ntion is everyone's responsibility. Taking care of one's self is the pri
 ority. The skills taught in the Refuse To Be A Victim® course will help 
 to prevent personal attacks and keep our communities safer. Refuse To Be A
  Victim® is the best personal safety and awareness program I have come ac
 ross in my Crime Prevention career."\nThe program is appropriate for teena
 gers and up. With more than four thousand instructors\, seminars have been
  held in all 50 states\, the District of Columbia\, Puerto Rico\, Canada\,
  Costa Rico\, and Trinidad and Tobago.  Almost a 100 thousand men and wom
 en have benefited from the program and its life saving message.\nMillions 
 of Violent and Property Crimes Committed Annually\nSafety experts agree th
 e single most important step toward ensuring your personal safety is makin
 g the conscious decision to Refuse To Be A Victim®. You stand a much bet
 ter chance of preventing criminal attack if you develop a safety plan befo
 re you need it.  That is why the Refuse To Be A Victim® crime prevention
  seminar was developed. It is a program of the National Rifle Association.
 \n The seminar teaches easy‑to‑understand methods you can use to incr
 ease awareness and prevent criminal confrontation.  In just four hours\, 
 you will get the tools you need to develop your own personal safety strate
 gy\, including information about:\n\n\n 	The Psychology of the Criminal Mi
 nd\n 	Personal &amp\; Technological Security\n 	Carjacking Prevention Stra
 tegies\n 	Self‑Defense Devices and Training Options\n 	  And more!\n\nT
 op of Page\nClass Description\nRefuse To Be A Victim® is a four hour cri
 me prevention seminar\, which provides practical information geared toward
  awareness and avoidance of criminal attack. It is a program of the Nation
 al Rifle Association. Certified instructors help seminar participants bett
 er understand criminal thinking and provide tips on maximizing home\, auto
 mobile\, telephone\, technological\, and personal security.  Participants
  learn unbiased information about carjacking prevention strategies\; self
 ‑defense training options\; and the use of devices such as pepper spray\
 , mace and tasers. \nThis safety awareness message has been presented in 
 all 50 states\, the District of Columbia\, Canada\, Puerto Rico\, Costa Ri
 ca\, and Trinidad and Tobago. Additionally\, tens of thousands of people h
 ave attended seminars and this is what they have to say about the program:
 \n“It equips attendees to take action to better enable their personal sa
 fety as well as protect homes and personal property. The material is strai
 ghtforward and provides simple\, practical steps that attendees can immedi
 ately put to use and allow them to be proactive regarding their personal s
 afety. This course lives up to its name”\, wrote Andrew Maurer\, Presid
 ent\, Villa Lee Community Association\, Vienna\, Virginia.\nAs a Refuse To
  Be A Victim® certified instructor\, I will assist you or others interes
 ted in organizing a public or private seminar in your community\, at your 
 organization\, or at your place of business.  If you should have any ques
 tions about Refuse To Be A Victim®\, please contact me  \nIf you are int
 erested in becoming a RTBAV instructor\, we will be offering the instructo
 r course after the student course.  This will require an additional 4 hou
 rs of class.  You will need to have your BIT training within the past 2 y
 ears to obtain your instructor credentials.
ATTACH;FMTTYPE=image/jpeg:https://www.nebraskashooters.com/wp-content/uplo
 ads/2016/11/RTBAV-Wide.jpg
CATEGORIES:Everything,NRA Student Courses,Refuse to be a Victim,Refuse to
 be a Victim Instructor Course
LOCATION:Nebraska Shooters\, 3200 Gage Rd\, Firth\, Nebraska\, 68358\, Unit
 ed States
GEO:40.524337;-96.675525
X-APPLE-STRUCTURED-LOCATION;VALUE=URI;X-ADDRESS=3200 Gage Rd\, Firth\, Nebr
 aska\, 68358\, United States;X-APPLE-RADIUS=100;X-TITLE=Nebraska Shooters:
 geo:40.524337,-96.675525
END:VEVENT
BEGIN:VTIMEZONE
TZID:America/North_Dakota/Center
X-LIC-LOCATION:America/North_Dakota/Center
BEGIN:DAYLIGHT
DTSTART:20190310T030000
TZOFFSETFROM:-0600
TZOFFSETTO:-0500
TZNAME:CDT
END:DAYLIGHT
END:VTIMEZONE
END:VCALENDAR