BEGIN:VCALENDAR
VERSION:2.0
PRODID:-//wp-events-plugin.com//7.2.3.1//EN
TZID:America/North_Dakota/Center
X-WR-TIMEZONE:America/North_Dakota/Center
BEGIN:VEVENT
UID:509@nebraskashooters.com
DTSTART;TZID=America/North_Dakota/Center;VALUE=DATE:20170827
DTEND;TZID=America/North_Dakota/Center;VALUE=DATE:20170828
DTSTAMP:20170831T141257Z
URL:https://www.nebraskashooters.com/events/range-work-day-4/
SUMMARY:Range Work Day
DESCRIPTION:\n	If you are looking for a reason to get out and hang out with
  some like-minded people and get some things done\, this is a great opport
 unity to come out and help get the range ready for the upcoming events.&nb
 sp\; We will be building a focused on completing some work in the classroo
 m building\, but there is a lot to be done all around the range. &nbsp\;Mo
 st of the work is non-technical.&nbsp\;you don&#39\;t even need to be hand
 y if you are willing to take instruction. We do have some electrical work\
 , plumbing\, and carpentry work to be done.\n\n\n\n	We greatly appeciate a
 ll of the people who have helped int he past and we hope to get several pr
 ojects completed before the end of the year. &nbsp\;Anyone who comes is we
 lcome to take a range break and get some trigger time so bring your guns a
 nd ammo.\n\n\n\n	If we know you are coming we will even provide food and s
 nacks so you can simply put your name on the list by signing up below or s
 hoot me an email. If we do not know you are coming we could be out getting
  materials so we could miss you. &nbsp\;\n\n\n\n	&nbsp\;Thanks for taking 
 to time to check this event out!\n\n\n\n	Sincerely\,\n\n\n\n	Justin Grusin
 g\n	Nebraska Shooters\n\n
CATEGORIES:Everything,Range Work Day
LOCATION:Nebraska Shooters\, 3200 Gage Rd\, Firth\, Nebraska\, 68358\, Unit
 ed States
GEO:40.524337;-96.675525
X-APPLE-STRUCTURED-LOCATION;VALUE=URI;X-ADDRESS=3200 Gage Rd\, Firth\, Nebr
 aska\, 68358\, United States;X-APPLE-RADIUS=100;X-TITLE=Nebraska Shooters:
 geo:40.524337,-96.675525
END:VEVENT
BEGIN:VTIMEZONE
TZID:America/North_Dakota/Center
X-LIC-LOCATION:America/North_Dakota/Center
BEGIN:DAYLIGHT
DTSTART:20170312T030000
TZOFFSETFROM:-0600
TZOFFSETTO:-0500
TZNAME:CDT
END:DAYLIGHT
END:VTIMEZONE
END:VCALENDAR