BEGIN:VCALENDAR
VERSION:2.0
PRODID:-//wp-events-plugin.com//7.2.3.1//EN
TZID:America/North_Dakota/Center
X-WR-TIMEZONE:America/North_Dakota/Center
BEGIN:VEVENT
UID:1977@nebraskashooters.com
DTSTART;TZID=America/North_Dakota/Center:20260321T140000
DTEND;TZID=America/North_Dakota/Center:20260321T170000
DTSTAMP:20251218T165638Z
URL:https://www.nebraskashooters.com/events/practical-pistol-scc-2/
SUMMARY:Practical Pistol-SCC
DESCRIPTION:We have had many come through the First Shots class over the p
 ast few years and there have been requests for a follow-up course which br
 ings the shooters to the next level without investing in a gun\, equipment
 \, or ammo before class.\n\nThis class will still focus on safety and shoo
 ting fundamentals\, but we will step up to a 9mm and we will add the holst
 er to the mix.\n\nWorking with a holster for the first time can be challen
 ging and dangerous without a little guidance.  We will teach you safe tec
 hniques to draw and holster your pistol which will better prepare you for 
 the day you may want to start carrying your firearm for self defense.\n\nW
 e will also work with a more practical caliber for self defense than the .
 22 caliber we used in the First Shots class.  The 9mm is the most commonl
 y used handgun for self defense because it balances power with cost.  A l
 arge majority of our students who attend the more advanced training bring 
 a 9mm because of this practical balance\, so the Second Shots class will p
 repare you for many other training opportunities with Nebraska Shooters or
  any other instructor of the Art of Pistol Shooting.\n\nYou are not requir
 ed to bring anything to class\, but please do not wear open-top shoes or l
 ow-cut shirts.\n\nYou will be furnished with\n\n 	9mm pistol\n 	Belt if ne
 eded\n 	Holster\n 	Eye Protection\n 	Hearing Protection\n 	50 rounds of am
 mo\n 	Instruction\n\nThis class is being offered through Southeast Communi
 ty College and registrations can be done through https://www.southeast.edu
 /destiny-one/course-detail.php?id=3735918\n\nThe class fee is $69 paid to 
 SCC and the equipment fee is $30 paid to Nebraska Shooters.  You can pay 
 the equipment fee below.
ATTACH;FMTTYPE=image/jpeg:https://www.nebraskashooters.com/wp-content/uplo
 ads/2025/02/handgun-and-ammo.jpg
CATEGORIES:CCW Workshop,Skills and Drills
LOCATION:Nebraska Shooters\, 3200 Gage Rd\, Firth\, Nebraska\, 68358\, Unit
 ed States
GEO:40.524337;-96.675525
X-APPLE-STRUCTURED-LOCATION;VALUE=URI;X-ADDRESS=3200 Gage Rd\, Firth\, Nebr
 aska\, 68358\, United States;X-APPLE-RADIUS=100;X-TITLE=Nebraska Shooters:
 geo:40.524337,-96.675525
END:VEVENT
BEGIN:VTIMEZONE
TZID:America/North_Dakota/Center
X-LIC-LOCATION:America/North_Dakota/Center
BEGIN:DAYLIGHT
DTSTART:20260308T030000
TZOFFSETFROM:-0600
TZOFFSETTO:-0500
TZNAME:CDT
END:DAYLIGHT
END:VTIMEZONE
END:VCALENDAR