BEGIN:VCALENDAR
VERSION:2.0
PRODID:-//wp-events-plugin.com//7.2.3.1//EN
TZID:America/North_Dakota/Center
X-WR-TIMEZONE:America/North_Dakota/Center
BEGIN:VEVENT
UID:780@nebraskashooters.com
DTSTART;TZID=America/North_Dakota/Center:20190702T120000
DTEND;TZID=America/North_Dakota/Center:20190703T180000
DTSTAMP:20190530T185717Z
URL:https://www.nebraskashooters.com/events/ppoth-instructor-5/
SUMMARY:PPOTH Instructor
DESCRIPTION:This course in the NRA Personal Protection Outside the Home INS
 TRUCTOR Course and requires the completion of the PPOTH student course whi
 ch is starts on Monday July 1.  If you have already completed the ADVANCE
 D (14 hour) PPOTH Student course with another instructor\, please bring yo
 ur certificate.\n\nIf you sign up for both at the same time you save $25 
 on the student course.  If you only intend on taking the Student Portion 
 of the course please sign up HERE.\n\nOur goal is to develop the Knowledge
  Skills and Attitude required to organize and teach an NRA Personal Protec
 tion Outside the Home class.  The PPOTH instructor course is 16 hours of 
 training and will begin at noon on Tuesday July 2 after the student course
  is completed.\n\nYou should bring at least 250 rounds of ammo for the ins
 tructor portion of the course.  Centerfire ammo is required for this cour
 se.  More is always better.\n\nYour Basic Instructor Training needs to be
  less than 2 years old to be considered for certification as an instructor
  for this course.  Please make arrangements with us to attend one of our 
 BIT classes prior to this course if you need it.
CATEGORIES:Everything,NRA Instructor Courses
LOCATION:Nebraska Shooters\, 3200 Gage Rd\, Firth\, Nebraska\, 68358\, Unit
 ed States
GEO:40.524337;-96.675525
X-APPLE-STRUCTURED-LOCATION;VALUE=URI;X-ADDRESS=3200 Gage Rd\, Firth\, Nebr
 aska\, 68358\, United States;X-APPLE-RADIUS=100;X-TITLE=Nebraska Shooters:
 geo:40.524337,-96.675525
END:VEVENT
BEGIN:VTIMEZONE
TZID:America/North_Dakota/Center
X-LIC-LOCATION:America/North_Dakota/Center
BEGIN:DAYLIGHT
DTSTART:20190310T030000
TZOFFSETFROM:-0600
TZOFFSETTO:-0500
TZNAME:CDT
END:DAYLIGHT
END:VTIMEZONE
END:VCALENDAR