BEGIN:VCALENDAR
VERSION:2.0
PRODID:-//wp-events-plugin.com//7.2.3.1//EN
TZID:America/North_Dakota/Center
X-WR-TIMEZONE:America/North_Dakota/Center
BEGIN:VEVENT
UID:547@nebraskashooters.com
DTSTART;TZID=America/North_Dakota/Center:20180506T080000
DTEND;TZID=America/North_Dakota/Center:20180506T170000
DTSTAMP:20180305T180358Z
URL:https://www.nebraskashooters.com/events/ppoth-instructor-3/
SUMMARY:PPOTH Instructor
DESCRIPTION:This course in the NRA Personal Protection Outside the Home INS
 TRUCTOR Course and requires the completion of the PPOTH student course whi
 ch is offered on Saturday May&nbsp\;5. &nbsp\;If you have already complete
 d the PPOTH Student course with another instructor\, please bring your cer
 tificate.\n\nIf you sign up for both at the same time you save $25&nbsp\;o
 n the student course. &nbsp\;If you only intend on taking the Student Port
 ion of the course please sign up HERE.\n\nOur goal is to develop the Knowl
 edge Skills and Attitude required to organize and teach an NRA Personal Pr
 otection Outside the Home class.\n\nYou should bring&nbsp\;a couple of ext
 ra boxes of ammo for the instructor&nbsp\;portion of the course. &nbsp\;Ce
 nterfire ammo is required for this course.&nbsp\;&nbsp\;\n\nYour Basic Ins
 tructor Training needs to be less than 2 years old to be considered for ce
 rtification as an instructor for this course.&nbsp\; We will be offering t
 he BIT on the Friday evening before class free of charge if you need it.
CATEGORIES:Everything,NRA Instructor Courses
LOCATION:Nebraska Shooters\, 3200 Gage Rd\, Firth\, Nebraska\, 68358\, Unit
 ed States
GEO:40.524337;-96.675525
X-APPLE-STRUCTURED-LOCATION;VALUE=URI;X-ADDRESS=3200 Gage Rd\, Firth\, Nebr
 aska\, 68358\, United States;X-APPLE-RADIUS=100;X-TITLE=Nebraska Shooters:
 geo:40.524337,-96.675525
END:VEVENT
BEGIN:VTIMEZONE
TZID:America/North_Dakota/Center
X-LIC-LOCATION:America/North_Dakota/Center
BEGIN:DAYLIGHT
DTSTART:20180311T030000
TZOFFSETFROM:-0600
TZOFFSETTO:-0500
TZNAME:CDT
END:DAYLIGHT
END:VTIMEZONE
END:VCALENDAR