BEGIN:VCALENDAR
VERSION:2.0
PRODID:-//wp-events-plugin.com//7.2.3.1//EN
TZID:America/North_Dakota/Center
X-WR-TIMEZONE:America/North_Dakota/Center
BEGIN:VEVENT
UID:766@nebraskashooters.com
DTSTART;TZID=America/North_Dakota/Center:20190630T080000
DTEND;TZID=America/North_Dakota/Center:20190630T180000
DTSTAMP:20190515T194055Z
URL:https://www.nebraskashooters.com/events/ppith-instructor-5/
SUMMARY:PPITH Instructor
DESCRIPTION:Personal Protection In The Home  Instructor Course requires th
 at you are a certified Basic Pistol instructor and have completed the Pers
 onal Protection in the Home Student Course which is being offered the day 
 before. You can save $50 on the PPITH course if you sign up for both from 
 this page or if you want the whole package look at the Power Week Special.
 \n\nThis course is designed to develop the Knowledge Skills and Attitude t
 o properly organize and teach a Personal Protection in the Home course.\n\
 nYou will need at least an additional 100 rounds of ammo for the Instructo
 r portion of the PPITH course as well as your handgun and holster.
CATEGORIES:Everything,Nebraska Shooters Range,NRA Instructor
 Courses,Personal Protection Inside the Home,Southeast
LOCATION:Nebraska Shooters\, 3200 Gage Rd\, Firth\, Nebraska\, 68358\, Unit
 ed States
GEO:40.524337;-96.675525
X-APPLE-STRUCTURED-LOCATION;VALUE=URI;X-ADDRESS=3200 Gage Rd\, Firth\, Nebr
 aska\, 68358\, United States;X-APPLE-RADIUS=100;X-TITLE=Nebraska Shooters:
 geo:40.524337,-96.675525
END:VEVENT
BEGIN:VTIMEZONE
TZID:America/North_Dakota/Center
X-LIC-LOCATION:America/North_Dakota/Center
BEGIN:DAYLIGHT
DTSTART:20190310T030000
TZOFFSETFROM:-0600
TZOFFSETTO:-0500
TZNAME:CDT
END:DAYLIGHT
END:VTIMEZONE
END:VCALENDAR