BEGIN:VCALENDAR
VERSION:2.0
PRODID:-//wp-events-plugin.com//7.2.3.1//EN
TZID:America/North_Dakota/Center
X-WR-TIMEZONE:America/North_Dakota/Center
BEGIN:VEVENT
UID:544@nebraskashooters.com
DTSTART;TZID=America/North_Dakota/Center:20180304T080000
DTEND;TZID=America/North_Dakota/Center:20180304T180000
DTSTAMP:20180226T171628Z
URL:https://www.nebraskashooters.com/events/ppith-instructor-4/
SUMMARY:PPITH Instructor
DESCRIPTION:Personal Protection In The Home &nbsp\;Instructor Course requir
 es that you are a certified Basic Pistol instructor and have completed the
  Personal Protection in the Home Student Course which is being offered the
  day before. You can save $50 on the PPITH course if you sign up for both 
 from this page. &nbsp\;\n\nThis course is designed to develop the Knowledg
 e Skills and Attitude to properly organize and teach a Personal Protection
  in the Home course.&nbsp\;\n\nYou will need at least an additional 100 ro
 unds of ammo for the Instructor&nbsp\;portion of the PPITH course as well 
 as your handgun and holster.
CATEGORIES:Everything,Nebraska Shooters Range,NRA Instructor
 Courses,Personal Protection Inside the Home,Southeast
LOCATION:Nebraska Shooters\, 3200 Gage Rd\, Firth\, Nebraska\, 68358\, Unit
 ed States
GEO:40.524337;-96.675525
X-APPLE-STRUCTURED-LOCATION;VALUE=URI;X-ADDRESS=3200 Gage Rd\, Firth\, Nebr
 aska\, 68358\, United States;X-APPLE-RADIUS=100;X-TITLE=Nebraska Shooters:
 geo:40.524337,-96.675525
END:VEVENT
BEGIN:VTIMEZONE
TZID:America/North_Dakota/Center
X-LIC-LOCATION:America/North_Dakota/Center
BEGIN:STANDARD
DTSTART:20171105T010000
TZOFFSETFROM:-0500
TZOFFSETTO:-0600
TZNAME:CST
END:STANDARD
END:VTIMEZONE
END:VCALENDAR