BEGIN:VCALENDAR
VERSION:2.0
PRODID:-//wp-events-plugin.com//7.2.3.1//EN
TZID:America/North_Dakota/Center
X-WR-TIMEZONE:America/North_Dakota/Center
BEGIN:VEVENT
UID:1103@nebraskashooters.com
DTSTART;TZID=America/North_Dakota/Center:20201011T080000
DTEND;TZID=America/North_Dakota/Center:20201011T180000
DTSTAMP:20200921T193146Z
URL:https://www.nebraskashooters.com/events/pierce-ccw-10-11-20/
SUMMARY:Pierce-CCW 10-11-20
DESCRIPTION:\nThis  Nebraska Concealed Carry class is Northwest of Norfolk
  at the Town and Country Insurance at 210 E. Main St in Pierce.\n\nThis Ne
 braska Concealed Handgun Training will be instructed by Randel Schnebel. 
 This is the course required by the State of Nebraska to satisfy the traini
 ng requirements to get your Concealed Handgun Permit (CHP). After years of
  refinement our instructors have developed a course that is easy for the n
 ew shooter to understand while still offering excellent information to the
  experienced shooters. The Nebraska Conceal Handgun Training will meet req
 uirements to get your Nebraska permit. Nebraska’s permit will enable leg
 al concealed carry in 34 states.  Check out the reciprocity page for more
  details. This class will also meet the requirements for Wyoming\, Iowa or
  Colorado residents to get their concealed carry permit. This is a non-NRA
  course taught by an NRA Certified Instructor in strict accordance with a 
 state-approved lesson plan.\n\nIt is required that you bring\n\n 	 100 rou
 nds of ammo \n 	handgun \n 	dominant-side holster and belt\n 	eye and hear
 ing protection (prescription glasses are acceptable)\n 	sack lunch.\n\n&nb
 sp\;\n\n  If you need to borrow a handgun and holster\, we can provide yo
 u with the equipment if you give us a heads up before class and you will j
 ust need to bring the ammunition.   Please  Drinks and snacks will be a
 vailable throughout the day.\n\nGuarantee: As many of you know\, there are
  instructors in Nebraska who are offering a quickie course which does not 
 cover the required material.  Our classes are guaranteed to cover the req
 uired material so there is no risk of you losing your permit due to inadeq
 uate training. This also ensures that you have been introduced to the lega
 l responsibilities of carrying a firearm for self defense which could easi
 ly save you a lot of trouble and hopefully keep you out of court.\n\nFor t
 hose seeking the Minnesota Non-Resident\, please keep in mind that the Min
 nesota training requires much of the material that is the Nebraska Shooter
 s Nebraska Concealed Handgun Course. If you took your Nebraska course else
 where\, you will need to take advantage of our free refresher course and a
 ttend the entire day to meet the requirements. If you took your CHP course
  through us\, you can simply attend the Minnesota portion which should beg
 in around 5:00 pm.\n\nIf you need to withdraw\, please give plenty of noti
 ce.  Read our REFUND POLICY HERE.\n\nEach student will need to register s
 eparately.  Each student needs to have their own email address. Please do
 uble check your name as it appears on your driver's license because your c
 ertificate will need to match exactly.  (Include middle name or initial i
 f it is on your DL)\n\n&nbsp\;
ATTACH;FMTTYPE=image/jpeg:https://www.nebraskashooters.com/wp-content/uplo
 ads/2018/07/ComeSeeNS.jpg
CATEGORIES:Everything,Nebraska Concealed Handgun Training,Norfolk,Pierce
LOCATION:Town & Country\, 210 E Main St\, Pierce\, NE\, 68767\, United Stat
 es
GEO:42.19907;-97.525905
X-APPLE-STRUCTURED-LOCATION;VALUE=URI;X-ADDRESS=210 E Main St\, Pierce\, NE
 \, 68767\, United States;X-APPLE-RADIUS=100;X-TITLE=Town & Country:geo:42.
 19907,-97.525905
END:VEVENT
BEGIN:VTIMEZONE
TZID:America/North_Dakota/Center
X-LIC-LOCATION:America/North_Dakota/Center
BEGIN:DAYLIGHT
DTSTART:20200308T030000
TZOFFSETFROM:-0600
TZOFFSETTO:-0500
TZNAME:CDT
END:DAYLIGHT
END:VTIMEZONE
END:VCALENDAR