BEGIN:VCALENDAR
VERSION:2.0
PRODID:-//wp-events-plugin.com//7.2.3.1//EN
TZID:America/North_Dakota/Center
X-WR-TIMEZONE:America/North_Dakota/Center
BEGIN:VEVENT
UID:767@nebraskashooters.com
DTSTART;TZID=America/North_Dakota/Center:20190701T070000
DTEND;TZID=America/North_Dakota/Center:20190702T120000
DTSTAMP:20190530T184937Z
URL:https://www.nebraskashooters.com/events/personal-protection-outside-th
 e-home-2/
SUMMARY:Personal Protection Outside the Home
DESCRIPTION:Participants must have completed Personal Protection In the Hom
 e course. For those needing this course it is available on June 29\, 2019.
   This course broadens the knowledge\, skills and attitude necessary for 
 avoiding a dangerous confrontation and the safe effective use of a handgun
  for protection when outside the home. For a full description click here.\
 n\nNRA's Personal Protection Outside the Home (level 1) is a 9 hour course
  with extended range time (level 2) adding 5 more hours. We will review fu
 ndamentals of safe gun handling\, proper mindset and presentation from con
 cealment. This course also includes: presentation and movement\, point sho
 oting\, shooting from cover and concealment\, instinctive shooting\, low l
 ight shooting\, engaging multiple targets and one-handed shooting. Partici
 pants must bring: Handgun with strong side holster\, a minimum of 250 roun
 ds of ammo\, eye and ear protection\, knee pads\, 2 or more magazines\, co
 ncealment garment and certification of completion of NRA's Personal Protec
 tion Inside the Home course. Refreshments and lunch will be provided.\n\nW
 e will start promptly at 7:00 am. This is objective-based course so please
  be prepared to put in a full day.  This is a 14 hour curriculum for thos
 e who want the level 2 which is required to become an instructor.   We s
 hould be done with the level 2 of the student course by mid-day on Tuesday
  7/2/19.  We will then move into the instructor course if you are enrolle
 d in that.  For those who are not planning to become an instructor\, you 
 have the option of only taking the Monday class.\n\n&nbsp\;
ATTACH;FMTTYPE=image/jpeg:https://www.nebraskashooters.com/wp-content/uplo
 ads/2014/11/instrgif.gif
CATEGORIES:Defensive Pistol,Everything,Nebraska Shooters Range,NRA Student
 Courses,Personal Protection Outside The Home,Southeast
LOCATION:Nebraska Shooters\, 3200 Gage Rd\, Firth\, Nebraska\, 68358\, Unit
 ed States
GEO:40.524337;-96.675525
X-APPLE-STRUCTURED-LOCATION;VALUE=URI;X-ADDRESS=3200 Gage Rd\, Firth\, Nebr
 aska\, 68358\, United States;X-APPLE-RADIUS=100;X-TITLE=Nebraska Shooters:
 geo:40.524337,-96.675525
END:VEVENT
BEGIN:VTIMEZONE
TZID:America/North_Dakota/Center
X-LIC-LOCATION:America/North_Dakota/Center
BEGIN:DAYLIGHT
DTSTART:20190310T030000
TZOFFSETFROM:-0600
TZOFFSETTO:-0500
TZNAME:CDT
END:DAYLIGHT
END:VTIMEZONE
END:VCALENDAR