BEGIN:VCALENDAR
VERSION:2.0
PRODID:-//wp-events-plugin.com//7.2.3.1//EN
TZID:America/North_Dakota/Center
X-WR-TIMEZONE:America/North_Dakota/Center
BEGIN:VEVENT
UID:1189@nebraskashooters.com
DTSTART;TZID=America/Denver:20210320T080000
DTEND;TZID=America/Denver:20210320T170000
DTSTAMP:20210224T142144Z
URL:https://www.nebraskashooters.com/events/ogallala-ccw-3-20-21/
SUMMARY:Ogallala-CCW 3-20-21
DESCRIPTION:Nebraska Concealed Handgun Training\ninstructed by Jim McChesne
 y and Mike Mosel\nLocation: Big Mac Sports Club\, 500 East Riverdale Rd\, 
 Ogallala NE\n\nThis is the Nebraska Concealed Handgun Training course requ
 ired by the State of Nebraska to satisfy the training requirements to get 
 your Concealed Handgun Permit (CHP or CCW). After years of refinement our 
 team of instructors have developed a course that is easy for the new shoot
 er to understand while still offering excellent information to the experie
 nced shooters. The Nebraska Conceal Handgun Training will meet requiremen
 ts to get your Nebraska permit as well as your Florida or Arizona non-resi
 dent permit. Nebraska’s permit will enable legal concealed carry in 34 s
 tates.  Check out our RECIPROCITY PAGE for more information. This class w
 ill also meet the requirements for Iowa or Colorado residents to get their
  concealed carry permit. This is a non-NRA course taught by an NRA Certifi
 ed Instructor in strict accordance with a state-approved lesson plan.\n\nT
 he lessons concerning the safe handling of handguns and shooting fundamen
 tals is based on the material in the NRA Basic Pistol course. If you are i
 nterested in obtaining the NRA Basic Pistol certification please let us kn
 ow before class and we will take the additional steps to meet the requirem
 ents at no extra charge.  The NRA certification will meet the prerequisit
 es to take the Personal Protection in the Home course as well as the NRA D
 efensive Pistol Course.\n\nIt is recommended that you bring 100 rounds of 
 ammo and your favorite handgun with a dominant-side holster.  You will al
 so need eye and hearing protection.  Upon receiving your permit\, you wil
 l not be restricted to carrying the handgun you brought to class.\n\nA buf
 fet style lunch will be provided.  If you have health concerns\, please f
 eel free to bring a sack lunch.  If you are interested in getting your Mi
 nnesota Non-Resident carry permit\, you also have the opportunity to stick
  around after class and attend a short session to satisfy the Minnesota re
 quirements for training for only $20.\n\nGuarantee:  Our Nebraska Conceal
 ed Handgun Training or "Concealed Carry" course is guaranteed to cover al
 l of the material required by the Nebraska State Patrol and more.  If you
  are unsure if your current certification is adequate please feel free to 
 attend our class and for free and trade in your certificate. This will hel
 p to ensure that if your instructor loses their credentials for failing to
  present the required material\, you will have a legitimate certificate. 
  Please feel free to bring a friend or send one to a future class as a tok
 en of your appreciation.\n\nWe will need to have at least 8 students signe
 d up for this class so if you sign up and we do not meet our goal you will
  be refunded or given credit to take one of our other classes.  If the go
 al is met and you opt to not show up\, you will not be refunded\, but you 
 will be given credit for another class.\n\nIf you have any questions\, ple
 ase contact Jim McChesney at (308)280-0211
ATTACH;FMTTYPE=image/jpeg:https://www.nebraskashooters.com/wp-content/uplo
 ads/2018/07/ComeSeeNS.jpg
CATEGORIES:Everything,Nebraska Concealed Handgun
 Training,Ogallala,Panhandle
LOCATION:Big Mac Sports Club\, 802 East Riverdale Rd\, Ogallala\, Nebraska\
 , 69153\, Keith County\, United States
GEO:41.125003;-101.703766
X-APPLE-STRUCTURED-LOCATION;VALUE=URI;X-ADDRESS=802 East Riverdale Rd\, Oga
 llala\, Nebraska\, 69153\, Keith County\, United States;X-APPLE-RADIUS=100
 ;X-TITLE=Big Mac Sports Club:geo:41.125003,-101.703766
END:VEVENT
BEGIN:VTIMEZONE
TZID:America/Denver
X-LIC-LOCATION:America/Denver
BEGIN:DAYLIGHT
DTSTART:20210314T030000
TZOFFSETFROM:-0700
TZOFFSETTO:-0600
TZNAME:MDT
END:DAYLIGHT
END:VTIMEZONE
END:VCALENDAR