BEGIN:VCALENDAR
VERSION:2.0
PRODID:-//wp-events-plugin.com//7.2.3.1//EN
TZID:America/North_Dakota/Center
X-WR-TIMEZONE:America/North_Dakota/Center
BEGIN:VEVENT
UID:1105@nebraskashooters.com
DTSTART;TZID=America/North_Dakota/Center:20201017T080000
DTEND;TZID=America/North_Dakota/Center:20201017T170000
DTSTAMP:20201104T175506Z
URL:https://www.nebraskashooters.com/events/ogallala-ccw-10-17-20/
SUMMARY:Ogallala-CCW 10-17-20
DESCRIPTION:Nebraska Concealed Handgun Training\ninstructed by Jim McChesne
 y and Mike Mosel\nLocation: 1391 Rd East E N (Southeast of Lake McConaugh
 y)\n\nThis is the Nebraska Concealed Handgun Training course required by t
 he State of Nebraska to satisfy the training requirements to get your Conc
 ealed Handgun Permit (CHP or CCW). After years of refinement our team of i
 nstructors have developed a course that is easy for the new shooter to und
 erstand while still offering excellent information to the experienced shoo
 ters. The Nebraska Conceal Handgun Training will meet requirements to get
  your Nebraska permit as well as your Florida or Arizona non-resident perm
 it. Nebraska’s permit will enable legal concealed carry in 35 states.  
 Check out our RECIPROCITY PAGE for more information. This class will also 
 meet the requirements for Iowa or Colorado residents to get their conceale
 d carry permit. This is a non-NRA course taught by an NRA Certified Instru
 ctor in strict accordance with a state-approved lesson plan.\n\nThe lesso
 ns concerning the safe handling of handguns and shooting fundamentals is b
 ased on the material in the NRA Basic Pistol course. If you are interested
  in obtaining the NRA Basic Pistol certification please let us know before
  class and we will take the additional steps to meet the requirements at n
 o extra charge.  The NRA certification will meet the prerequisites to tak
 e the Personal Protection in the Home course as well as the NRA Defensive 
 Pistol Course.\n\nIt is recommended that you bring 100 rounds of ammo and 
 your favorite handgun with a dominant-side holster.  You will also need e
 ye and hearing protection.  Upon receiving your permit\, you will not be 
 restricted to carrying the handgun you brought to class.\n\nA buffet style
  lunch will be provided.  If you have health concerns\, please feel free 
 to bring a sack lunch.  If you are interested in getting your Minnesota N
 on-Resident carry permit\, you also have the opportunity to stick around a
 fter class and attend a short session to satisfy the Minnesota requirement
 s for training for only $20.\n\nGuarantee:  Our Nebraska Concealed Handgu
 n Training or "Concealed Carry" course is guaranteed to cover all of the 
 material required by the Nebraska State Patrol and more.  If you are unsu
 re if your current certification is adequate please feel free to attend ou
 r class and for free and trade in your certificate. This will help to ensu
 re that if your instructor loses their credentials for failing to present 
 the required material\, you will have a legitimate certificate.  Please f
 eel free to bring a friend or send one to a future class as a token of you
 r appreciation.\n\nWe will need to have at least 10 students signed up for
  this class so if you sign up and we do not meet our goal you will be refu
 nded or given credit to take one of our other classes.  If the goal is me
 t and you opt to not show up\, you will not be refunded\, but you will be 
 given credit for another class.\n\nIf you have any questions\, please cont
 act Jim McChesney at (308)280-0211
ATTACH;FMTTYPE=image/jpeg:https://www.nebraskashooters.com/wp-content/uplo
 ads/2018/07/ComeSeeNS.jpg
CATEGORIES:Everything,Nebraska Concealed Handgun
 Training,Ogallala,Panhandle
LOCATION:Hidden Canyon Ranch\, 59R8+9W Keystone\, Ogallala\, Nebraska\, Uni
 ted States
GEO:41.191083;-101.631872
X-APPLE-STRUCTURED-LOCATION;VALUE=URI;X-ADDRESS=59R8+9W Keystone\, Ogallala
 \, Nebraska\, United States;X-APPLE-RADIUS=100;X-TITLE=Hidden Canyon Ranch
 :geo:41.191083,-101.631872
END:VEVENT
BEGIN:VTIMEZONE
TZID:America/North_Dakota/Center
X-LIC-LOCATION:America/North_Dakota/Center
BEGIN:DAYLIGHT
DTSTART:20200308T030000
TZOFFSETFROM:-0600
TZOFFSETTO:-0500
TZNAME:CDT
END:DAYLIGHT
END:VTIMEZONE
END:VCALENDAR