BEGIN:VCALENDAR
VERSION:2.0
PRODID:-//wp-events-plugin.com//7.2.3.1//EN
TZID:America/North_Dakota/Center
X-WR-TIMEZONE:America/North_Dakota/Center
BEGIN:VEVENT
UID:449@nebraskashooters.com
DTSTART;TZID=America/North_Dakota/Center:20170805T080000
DTEND;TZID=America/North_Dakota/Center:20170806T180000
DTSTAMP:20170419T124720Z
URL:https://www.nebraskashooters.com/events/nra-rifle-instructor-course-4/
SUMMARY:NRA Rifle Instructor Course
DESCRIPTION:\n	The NRA Rifle Instructor Training course is designed to deve
 lop NRA Certified Instructors who possess the knowledge\, skills\, and att
 itude necessary to conduct the NRA Basic Rifle Shooting Course. NRA Rifle 
 Instructor Training begins with the NRA Basic Instructor Training&nbsp\;cl
 ass\, which must be completed first. Both classes together form the requir
 ed course for NRA Rifle Instructor certification. (You are not considered 
 an NRA Certified Instructor until the NRA Training Department processes yo
 ur application and issues your instructor credentials.)\n\n\n\n	This cours
 e includes the Student Course\, Basic Instructor Training\, Instructor Cou
 rse\, and qualification shooting. &nbsp\;The qualification shooting can be
  done with a gun of your choice or we will have rifles available if you&#3
 9\;d like to borrow one. &nbsp\;Lunch is povided both days and for those t
 raveling from afar\, we do have a couple of room available to stay the nig
 ht and save on motel costs.\n\n\n\n	\n	This course requires a current Basi
 c Instructor Training course and we will be offering a BIT prior to class 
 for those who need it.&nbsp\;&nbsp\;If you need a refresher or need to tak
 e it for the first time\, you are welcome to attend free of charge as part
  of this class. &nbsp\;Just let us know you are coming.\n\n\n\n	&nbsp\;\n\
 n
CATEGORIES:Everything,NRA Instructor Courses,Rifle Instructor Training
LOCATION:Nebraska Shooters\, 3200 Gage Rd\, Firth\, Nebraska\, 68358\, Unit
 ed States
GEO:40.524337;-96.675525
X-APPLE-STRUCTURED-LOCATION;VALUE=URI;X-ADDRESS=3200 Gage Rd\, Firth\, Nebr
 aska\, 68358\, United States;X-APPLE-RADIUS=100;X-TITLE=Nebraska Shooters:
 geo:40.524337,-96.675525
END:VEVENT
BEGIN:VTIMEZONE
TZID:America/North_Dakota/Center
X-LIC-LOCATION:America/North_Dakota/Center
BEGIN:DAYLIGHT
DTSTART:20170312T030000
TZOFFSETFROM:-0600
TZOFFSETTO:-0500
TZNAME:CDT
END:DAYLIGHT
END:VTIMEZONE
END:VCALENDAR