BEGIN:VCALENDAR
VERSION:2.0
PRODID:-//wp-events-plugin.com//7.2.3.1//EN
TZID:America/North_Dakota/Center
X-WR-TIMEZONE:America/North_Dakota/Center
BEGIN:VEVENT
UID:534@nebraskashooters.com
DTSTART;TZID=America/North_Dakota/Center:20180127T080000
DTEND;TZID=America/North_Dakota/Center:20180127T170000
DTSTAMP:20171128T173311Z
URL:https://www.nebraskashooters.com/events/nra-range-safety-officer-7/
SUMMARY:NRA Range Safety Officer
DESCRIPTION:\n	This course is approximately nine hours long and is conducte
 d in the Nebraska Shooters Facility between Cortland and Firth. Range Safe
 ty Officer candidates will learn roles and responsibilities of an RSO\; Ra
 nge Standard Operating Procedures (SOPs)\; range inspection\; range rules\
 ; range briefings\; emergency procedures\; and firearm stoppages and malfu
 nctions. Each Range Safety Officer Candidate will receive an RSO Student S
 tudy Guide\, a Basic Firearm Training Program brochure\, an NRA Gun Safety
  Rules brochure\, an Instructor Application/Course Evaluation form.\n\n\n\
 n	NRA Range Safety Officers possess the knowledge\, skills\, and attitude 
 essential to organizing\, conducting\, and supervising safe shooting activ
 ities and range operations indoors and outdoors.\n\n\n\n	The NRA developed
  its program in response to the demand for a nationally-recognized Range S
 afety Officer (&quot\;RSO&quot\;) certification. Our class and the certifi
 cation should be especially valuable to firearms instructors.\n\n\n\n	This
  includes lunch and snacks so if you have any dietary restrictions pease l
 et us know beforehand.\n\n\n\n	Credentialing Fees:\n\n\n\n	All first time 
 instructors\, Coaches\, and Range Saftey Officers pay a flat credentialing
  fee of $50 for a 2 year term. Additional ratings can be added at a rate o
 f $20 per rating and renewals are $50 for a 2 year term regardless of how 
 many ratings are being renewed.\n\n\n\n	** NRA Members credentialing fees 
 are $30 for a 2 year term and additional ratings can be added at $10 per r
 ating.\n\n
ATTACH;FMTTYPE=image/jpeg:https://www.nebraskashooters.com/wp-content/uplo
 ads/2015/01/rso.gif
CATEGORIES:Everything,Nebraska Shooters Range,NRA Student Courses,Range
 Safety Officer,Southeast
LOCATION:Nebraska Shooters\, 3200 Gage Rd\, Firth\, Nebraska\, 68358\, Unit
 ed States
GEO:40.524337;-96.675525
X-APPLE-STRUCTURED-LOCATION;VALUE=URI;X-ADDRESS=3200 Gage Rd\, Firth\, Nebr
 aska\, 68358\, United States;X-APPLE-RADIUS=100;X-TITLE=Nebraska Shooters:
 geo:40.524337,-96.675525
END:VEVENT
BEGIN:VTIMEZONE
TZID:America/North_Dakota/Center
X-LIC-LOCATION:America/North_Dakota/Center
BEGIN:STANDARD
DTSTART:20171105T010000
TZOFFSETFROM:-0500
TZOFFSETTO:-0600
TZNAME:CST
END:STANDARD
END:VTIMEZONE
END:VCALENDAR