BEGIN:VCALENDAR
VERSION:2.0
PRODID:-//wp-events-plugin.com//7.2.3.1//EN
TZID:America/North_Dakota/Center
X-WR-TIMEZONE:America/North_Dakota/Center
BEGIN:VEVENT
UID:1093@nebraskashooters.com
DTSTART;TZID=America/North_Dakota/Center:20201004T090000
DTEND;TZID=America/North_Dakota/Center:20201004T190000
DTSTAMP:20200911T191952Z
URL:https://www.nebraskashooters.com/events/nra-range-safety-officer-19/
SUMMARY:NRA Range Safety Officer
DESCRIPTION:This course is approximately nine hours long.  Range Safety Of
 ficer candidates will learn roles and responsibilities of an RSO\; Range S
 tandard Operating Procedures (SOPs)\; range inspection\; range rules\; ran
 ge briefings\; emergency procedures\; and firearm stoppages and malfunctio
 ns. Each Range Safety Officer Candidate will receive an RSO Student Study 
 Guide\, a Basic Firearm Training Program brochure\, an NRA Gun Safety Rule
 s brochure\, an Instructor Application/Course Evaluation form.\n\nNRA Rang
 e Safety Officers possess the knowledge\, skills\, and attitude essential 
 to organizing\, conducting\, and supervising safe shooting activities and 
 range operations indoors and outdoors.\n\nThe NRA developed its program in
  response to the demand for a nationally-recognized Range Safety Officer (
 "RSO") certification. Our class and the certification will be especially v
 aluable to firearms instructors.\n\nPlease bring a sack lunch since there 
 are no restaurants nearby and we will likely work through lunch.\n\nThere 
 are no prerequisites for this course.  All materials will be provided.\n\
 nCredentialing Fees:\n\nAll first time instructors\, Coaches\, and Range S
 aftey Officers pay a flat credentialing fee of $55 for a 2 year term. Addi
 tional ratings can be added at a rate of $20 per rating and renewals are $
 55 for a 2 year term regardless of how many ratings are being renewed.\n\n
 ** NRA Members credentialing fees are $35 for a 2 year term and additional
  ratings can be added at $10 per rating.\n\n&nbsp\;\n\nRefund Policy
ATTACH;FMTTYPE=image/jpeg:https://www.nebraskashooters.com/wp-content/uplo
 ads/2015/01/rso.gif
CATEGORIES:Everything,Range Safety Officer
LOCATION:Izaak Walton Clubhouse\, 10801 S 134th St\, Bennet\, Nebraska\, 68
 317\, United States
GEO:40.7028407;-96.54156499999999
X-APPLE-STRUCTURED-LOCATION;VALUE=URI;X-ADDRESS=10801 S 134th St\, Bennet\,
  Nebraska\, 68317\, United States;X-APPLE-RADIUS=100;X-TITLE=Izaak Walton 
 Clubhouse:geo:40.7028407,-96.54156499999999
END:VEVENT
BEGIN:VTIMEZONE
TZID:America/North_Dakota/Center
X-LIC-LOCATION:America/North_Dakota/Center
BEGIN:DAYLIGHT
DTSTART:20200308T030000
TZOFFSETFROM:-0600
TZOFFSETTO:-0500
TZNAME:CDT
END:DAYLIGHT
END:VTIMEZONE
END:VCALENDAR