BEGIN:VCALENDAR
VERSION:2.0
PRODID:-//wp-events-plugin.com//7.2.3.1//EN
TZID:America/North_Dakota/Center
X-WR-TIMEZONE:America/North_Dakota/Center
BEGIN:VEVENT
UID:810@nebraskashooters.com
DTSTART;TZID=America/North_Dakota/Center:20190706T080000
DTEND;TZID=America/North_Dakota/Center:20190706T170000
DTSTAMP:20190707T001915Z
URL:https://www.nebraskashooters.com/events/nra-range-safety-officer-11/
SUMMARY:NRA Range Safety Officer
DESCRIPTION:This course is approximately nine hours long and is conducted i
 n the Nebraska Shooters Facility between Cortland and Firth. Range Safety 
 Officer candidates will learn roles and responsibilities of an RSO\; Range
  Standard Operating Procedures (SOPs)\; range inspection\; range rules\; r
 ange briefings\; emergency procedures\; and firearm stoppages and malfunct
 ions. Each Range Safety Officer Candidate will receive an RSO Student Stud
 y Guide\, a Basic Firearm Training Program brochure\, an NRA Gun Safety Ru
 les brochure\, an Instructor Application/Course Evaluation form.\n\nNRA Ra
 nge Safety Officers possess the knowledge\, skills\, and attitude essentia
 l to organizing\, conducting\, and supervising safe shooting activities an
 d range operations indoors and outdoors.\n\nThe NRA developed its program 
 in response to the demand for a nationally-recognized Range Safety Officer
  ("RSO") certification. Our class and the certification should be especial
 ly valuable to firearms instructors.\n\nThis includes lunch and snacks so 
 if you have any dietary restrictions pease let us know beforehand.\n\nCred
 entialing Fees:\n\nAll first time instructors\, Coaches\, and Range Saftey
  Officers pay a flat credentialing fee of $50 for a 2 year term. Additiona
 l ratings can be added at a rate of $20 per rating and renewals are $50 fo
 r a 2 year term regardless of how many ratings are being renewed.\n\n** NR
 A Members credentialing fees are $30 for a 2 year term and additional rati
 ngs can be added at $10 per rating.\n\nIf you are interested in becoming a
  Chief Range Safety Officer\, please look at the CRSO class offered on 7/7
 /19 and save some money by enrolling in the bundle package.\n\nRefund Poli
 cy
ATTACH;FMTTYPE=image/jpeg:https://www.nebraskashooters.com/wp-content/uplo
 ads/2015/01/rso.gif
CATEGORIES:Everything,Nebraska Shooters Range,NRA Student Courses,Range
 Safety Officer,Southeast
LOCATION:Nebraska Shooters\, 3200 Gage Rd\, Firth\, Nebraska\, 68358\, Unit
 ed States
GEO:40.524337;-96.675525
X-APPLE-STRUCTURED-LOCATION;VALUE=URI;X-ADDRESS=3200 Gage Rd\, Firth\, Nebr
 aska\, 68358\, United States;X-APPLE-RADIUS=100;X-TITLE=Nebraska Shooters:
 geo:40.524337,-96.675525
END:VEVENT
BEGIN:VTIMEZONE
TZID:America/North_Dakota/Center
X-LIC-LOCATION:America/North_Dakota/Center
BEGIN:DAYLIGHT
DTSTART:20190310T030000
TZOFFSETFROM:-0600
TZOFFSETTO:-0500
TZNAME:CDT
END:DAYLIGHT
END:VTIMEZONE
END:VCALENDAR