BEGIN:VCALENDAR
VERSION:2.0
PRODID:-//wp-events-plugin.com//7.2.3.1//EN
TZID:America/North_Dakota/Center
X-WR-TIMEZONE:America/North_Dakota/Center
BEGIN:VEVENT
UID:805@nebraskashooters.com
DTSTART;TZID=America/North_Dakota/Center:20190803T080000
DTEND;TZID=America/North_Dakota/Center:20190804T180000
DTSTAMP:20190416T194947Z
URL:https://www.nebraskashooters.com/events/nra-pistol-instructor-training
 -8-3-19/
SUMMARY:NRA Pistol Instructor Training 8-3-19
DESCRIPTION:Our NRA Pistol Instructor Training course is designed to develo
 p NRA Certified Instructors who possess the knowledge\, skills\, and attit
 ude necessary to conduct the NRA Basic Pistol Shooting Course. The Pistol 
 Instructor Training begins with our NRA Basic Instructor Training class\, 
 then the Basics of Pistol Shooting Student Course\, and then the Pistol In
 structor Training.  These 3 classes together form the required course fo
 r NRA Pistol Instructor certification. (You are not considered an NRA Cert
 ified Instructor until the NRA Training Department processes your applicat
 ion and issues your instructor credentials.)  This package includes the B
 asic Instructor Training (BIT)\, the Basics of Pistol Shooting Student Co
 urse and the Pistol Instructor Training so no other courses will be requi
 red to obtain your NRA Pistol Instructor Credentials after passing this co
 urse. The NRA is now suggesting instructor candidates to complete the NRA
  Online Blended Learning couse prior to class so you will be familiar with
  the material some of your students will be getting before coming to you.
   If you want a coupon for the online course\, please include it with you
 r checkout below.  (This will save you approximately $35 compared to buy
 ing it online directly.)\n\nNRA Pistol Instructor certification is a requ
 irement for becoming a Concealed Handgun Permit (CHP) Instructor in Nebra
 ska\, Iowa\, Colorado\, Missouri\, and many other states. Remember that th
 e individual states decide all matters relating to their CHP programs incl
 uding whether\, when\, and to whom they issue Instructor certificates. You
  must apply directly to your state and meet their requirements for certif
 ication as a CHP instructor.\n\nThe Training Counselor (Justin Grusing) f
 or this course has been a Nebraska Concealed Carry instructor for several 
 years so if you are taking this class to prepare for becoming a concealed 
 carry instructor you will be able to get many of your questions answered t
 o make the journey much smoother.\n\nThis is a full weekend which include
 s the Basic Instructor Training and the Basic Pistol student course as we
 ll as the prequalification shooting drills and the actual instructor cours
 e.  Your lunches and snacks will be included.  We also have on-site acco
 modations for those traveling from out of town at no additional charge.\n\
 nYou will just need to bring your handgun and approximately 300 rounds of
  ammo so you can demonstrate your ability to shoot to the standards requir
 ed to be an NRA instructor.  You will be required to shoot 16 out of 20 
 rounds in a 6" groups on an 8" from 15 yards.  You will be given two 
 chances every day if you do not accomplish this the first time.  We will 
 have the range open on Friday evening for those who would like to get an e
 xtra two chances before class begins.\n\nYou can pay for the class with cr
 edit card or debit card below or if you are going to pay by check please 
 select the "Pay Instructor Directly" option.  Your spot will not be reser
 ved until the check is received.\n\nNOTICE: Due to a recent change in the 
 NRA Pistol Training course\, it is now suggested that you complete the onl
 ine training prior to class.  You can do this at https://www.nraonlinetr
 aining.org/login/index.php and it will cost $60 paid directly to the NRA 
 or you can pay for a control code below for $25 and I will send you a code
  to enroll in the course online.\n\nThe $300 includes the BIT\, the Instru
 ctor-Led student course\, the Phase 2 of the student course\, and the Pist
 ol Instructor training.  Classes start at 8:00 am  at the Nebraska Shoot
 ers Training Academy at 3200 Gage Rd Firth\, NE 68358.\n\n&nbsp\;
ATTACH;FMTTYPE=image/jpeg:https://www.nebraskashooters.com/wp-content/uplo
 ads/2018/04/tc_logo.png
CATEGORIES:Everything,Nebraska Shooters Range,NRA Basic Instructor
 Training,NRA Instructor Courses,NRA Pistol Instructor Training,Southeast
LOCATION:Nebraska Shooters\, 3200 Gage Rd\, Firth\, Nebraska\, 68358\, Unit
 ed States
GEO:40.524337;-96.675525
X-APPLE-STRUCTURED-LOCATION;VALUE=URI;X-ADDRESS=3200 Gage Rd\, Firth\, Nebr
 aska\, 68358\, United States;X-APPLE-RADIUS=100;X-TITLE=Nebraska Shooters:
 geo:40.524337,-96.675525
END:VEVENT
BEGIN:VTIMEZONE
TZID:America/North_Dakota/Center
X-LIC-LOCATION:America/North_Dakota/Center
BEGIN:DAYLIGHT
DTSTART:20190310T030000
TZOFFSETFROM:-0600
TZOFFSETTO:-0500
TZNAME:CDT
END:DAYLIGHT
END:VTIMEZONE
END:VCALENDAR