BEGIN:VCALENDAR
VERSION:2.0
PRODID:-//wp-events-plugin.com//7.2.3.1//EN
TZID:America/North_Dakota/Center
X-WR-TIMEZONE:America/North_Dakota/Center
BEGIN:VEVENT
UID:557@nebraskashooters.com
DTSTART;TZID=America/North_Dakota/Center:20180331T080000
DTEND;TZID=America/North_Dakota/Center:20180401T180000
DTSTAMP:20180221T001821Z
URL:https://www.nebraskashooters.com/events/nra-pistol-instructor-training
 -18/
SUMMARY:NRA Pistol Instructor Training
DESCRIPTION:Our NRA Pistol Instructor Training course is designed to develo
 p NRA Certified Instructors who possess the knowledge\, skills\, and attit
 ude necessary to conduct the NRA Basic Pistol Shooting Course. The Pistol 
 Instructor Training begins with our NRA Basic Instructor Training class\, 
 then the Basics of Pistol Shooting Student Course\, and then the Pistol In
 structor Training. &nbsp\;These 3&nbsp\;classes together form the required
  course for NRA Pistol Instructor certification. (You are not considered a
 n NRA Certified Instructor until the NRA Training Department processes you
 r application and issues your instructor credentials.) &nbsp\;This package
  includes the Basic Instructor Training (BIT)\,&nbsp\;the Basics of Pistol
  Shooting Student Course and the Pistol Instructor Training&nbsp\;so no ot
 her courses will be required to obtain your NRA Pistol Instructor Credenti
 als after passing this course. The NRA is now requiring instructor candida
 tes to complete&nbsp\;the NRA Online Blended Learning couse prior to class
  so you will be familiar with the material some of your students will be g
 etting before coming to you.&nbsp\; If you want a coupon for the online co
 urse\, please include it with your checkout below.&nbsp\; (This will save 
 you approximately $35&nbsp\;compared to buying it online directly.)\n\nNRA
  Pistol Instructor certification&nbsp\;is a requirement for becoming a Con
 cealed&nbsp\;Handgun Permit (CHP) Instructor in Nebraska\, Iowa\, Colorado
 \, Missouri\, and many other states. Remember that the individual states d
 ecide all matters relating to their CHP programs including whether\, when\
 , and to whom they issue Instructor certificates. You must apply directly 
 to your state and meet their&nbsp\;requirements for certification as a&nbs
 p\;CHP instructor.\n\nThe Training Counselor (Justin Grusing) for this cou
 rse has been a Nebraska Concealed Carry instructor for several years so if
  you are taking this class to prepare for becoming a concealed carry instr
 uctor you will be able to get many of your questions answered to&nbsp\;mak
 e the journey much smoother.\n\nThis is a full weekend which includes the 
 Basic Instructor Training and the&nbsp\;Basic Pistol student course as wel
 l as the prequalification shooting drills and the actual instructor course
 . &nbsp\;Your lunches and snacks will be included.&nbsp\; We also have on-
 site accomodations for those traveling from out of town at no additional c
 harge.\n\nYou will just need to bring your handgun and approximately 300 r
 ounds&nbsp\;of ammo so you can demonstrate your ability to shoot to the st
 andards required to be&nbsp\;an NRA instructor. &nbsp\;You will be require
 d to shoot 16 out of 20 rounds in&nbsp\;a&nbsp\;6" groups&nbsp\;on an 8" f
 rom 15 yards. &nbsp\;You will be given two&nbsp\;chances every day if you 
 do not accomplish this the first time.&nbsp\; We will have the range open 
 on Friday evening for those who would like to get an extra two chances bef
 ore class begins.\n\nYou can pay for the class with credit card or debit c
 ard below or if&nbsp\;you are going to pay by check please select the "Pay
  Instructor Directly" option. &nbsp\;Your spot will not be reserved until 
 the check is received.\n\nNOTICE: Due to a recent change in the NRA Pistol
  Training course\, it is now required that you complete the online trainin
 g prior to class. &nbsp\;You can do this at&nbsp\;https://www.nraonlinetra
 ining.org/login/index.php&nbsp\;and it will cost $60 paid directly to the 
 NRA or you can pay for a control code below for $25 and I will send you a 
 code to enroll in the course online.&nbsp\; You will be assigned a PIN upo
 n completion of the online course so bring that with you. &nbsp\;(It will 
 be printed on the certificate of completion)\n\nThe $300&nbsp\;$275&nbsp\;
 includes the BIT\, the Phase 2 of the student course\, and the Pistol Inst
 ructor training. &nbsp\;Classes start at 8:00 am and we will be in Classro
 om Bravo at the Nebraska Shooters Training Academy at 3200 Gage Rd Firth\,
  NE 68358.\n\n&nbsp\;
ATTACH;FMTTYPE=image/jpeg:https://www.nebraskashooters.com/wp-content/uplo
 ads/2014/12/nra_tc.gif
CATEGORIES:Everything,Nebraska Shooters Range,NRA Basic Instructor
 Training,NRA Instructor Courses,NRA Pistol Instructor Training,Southeast
LOCATION:Nebraska Shooters\, 3200 Gage Rd\, Firth\, Nebraska\, 68358\, Unit
 ed States
GEO:40.524337;-96.675525
X-APPLE-STRUCTURED-LOCATION;VALUE=URI;X-ADDRESS=3200 Gage Rd\, Firth\, Nebr
 aska\, 68358\, United States;X-APPLE-RADIUS=100;X-TITLE=Nebraska Shooters:
 geo:40.524337,-96.675525
END:VEVENT
BEGIN:VTIMEZONE
TZID:America/North_Dakota/Center
X-LIC-LOCATION:America/North_Dakota/Center
BEGIN:DAYLIGHT
DTSTART:20180311T030000
TZOFFSETFROM:-0600
TZOFFSETTO:-0500
TZNAME:CDT
END:DAYLIGHT
END:VTIMEZONE
END:VCALENDAR