BEGIN:VCALENDAR
VERSION:2.0
PRODID:-//wp-events-plugin.com//7.2.3.1//EN
TZID:America/North_Dakota/Center
X-WR-TIMEZONE:America/North_Dakota/Center
BEGIN:VEVENT
UID:490@nebraskashooters.com
DTSTART;TZID=America/North_Dakota/Center:20171111T080000
DTEND;TZID=America/North_Dakota/Center:20171112T180000
DTSTAMP:20170725T034937Z
URL:https://www.nebraskashooters.com/events/nra-pistol-instructor-training
 -16/
SUMMARY:NRA Pistol Instructor Training
DESCRIPTION:\n	Our NRA Pistol Instructor Training course is designed to dev
 elop NRA Certified Instructors who possess the knowledge\, skills\, and at
 titude necessary to conduct the NRA Basic Pistol Shooting Course. Prior to
  attending this course you will either need to complete the online portion
  of the NRA Basic Pistol Phase 1 so that you can complete&nbsp\;the Phase 
 2 portion during this session or come in at 6:00 pm on 11/10/17 to attend 
 an Instructor Led session for the Basic Pistol (Or Both). The Pistol Instr
 uctor Training begins with our NRA Basic Instructor Training class\, then 
 the Basics of Pistol Shooting Phase 2\, and then the Pistol Instructor Tra
 ining. &nbsp\;These 3&nbsp\;classes together form the required course for 
 NRA Pistol Instructor certification. (You are not considered an NRA Certif
 ied Instructor until the NRA Training Department processes your applicatio
 n and issues your instructor credentials.) &nbsp\;This includes the Basic 
 Instructor Training (BIT)\,&nbsp\;the Student Basic Pistol Phase 2 and the
  Pistol Instructor Training&nbsp\;so no other courses will be required to 
 obtain your NRA Pistol Instructor Credentials after passing this course.&n
 bsp\;\n\n\n\n	\n	NRA Pistol Instructor certification&nbsp\;is a requiremen
 t for becoming a Concealed&nbsp\;Handgun Permit (CHP) Instructor in Nebras
 ka\, Iowa\, Colorado\, Missouri\, and many other states. Remember that the
  individual states decide all matters relating to their CHP programs inclu
 ding whether\, when\, and to whom they issue Instructor certificates. You 
 must apply directly to your state and meet their&nbsp\;requirements for ce
 rtification as a&nbsp\;CHP instructor.\n\n\n\n	The Training Counselor (Jus
 tin Grusing) for this course has been a Nebraska Concealed Carry instructo
 r for several years so if you are taking this class to prepare for becomin
 g a concealed carry instructor you will be able to get many of your questi
 ons answered to&nbsp\;make the journey much smoother.\n\n\n\n	This is a fu
 ll weekend which includes the Basic Instructor Training and the&nbsp\;Basi
 c Pistol student course as well as the prequalification shooting drills an
 d the actual instructor course. &nbsp\;Your lunches and snacks will be inc
 luded.\n\n\n\n	You will just need to bring your handgun and approximately 
 300 rounds&nbsp\;of ammo so you can demonstrate your ability to shoot to t
 he standards required to be&nbsp\;an NRA instructor. &nbsp\;You will be re
 quired to shoot 16 out of 20 rounds in&nbsp\;a&nbsp\;6&quot\; groups&nbsp\
 ;on an 8&quot\; from 15 yards. &nbsp\;&nbsp\;You will be given several cha
 nces if you do not accomplish this the first time.\n\n\n\n	You can pay for
  the class with credit card or debit card below or if&nbsp\;you are going 
 to pay by check please select the &quot\;Pay Instructor Directly&quot\; op
 tion. &nbsp\;Your spot will not be reserved until the check is received.\n
 \n\n\n	NOTICE: Due to a recent change in the NRA Pistol Training course\, 
 we recommend that you complete the online portion of the student course pr
 ior to attending the instructor course so you will be familiar with the ma
 terial your Blended Learning students will have before coming to you for a
  Phase 2 portion of the course. &nbsp\;You can do this at&nbsp\;https://ww
 w.nraonlinetraining.org/login/index.php&nbsp\;and it will cost $60 paid di
 rectly to the NRA or you can pay for a control code below for $25 and I wi
 ll send you a code to enroll in the course online.&nbsp\; You will be assi
 gned a PIN upon completion of the online course so bring that with you. &n
 bsp\;(It will be printed on the certificate of completion)\n\n\n\n	The $30
 0&nbsp\;$270 includes the BIT\, the Phase 2 of the student course\, and th
 e Pistol Instructor training. &nbsp\;Classes start at 8:00 am and we will 
 be in Classroom Bravo at the Nebraska Shooters Training Academy at 3200 Ga
 ge Rd Firth\, NE 68358.\n\n\n\n	&nbsp\;\n\n
ATTACH;FMTTYPE=image/jpeg:https://www.nebraskashooters.com/wp-content/uplo
 ads/2014/12/nra_tc.gif
CATEGORIES:Everything,NRA Basic Instructor Training,NRA Instructor
 Courses,NRA Pistol Instructor Training
LOCATION:Nebraska Shooters\, 3200 Gage Rd\, Firth\, Nebraska\, 68358\, Unit
 ed States
GEO:40.524337;-96.675525
X-APPLE-STRUCTURED-LOCATION;VALUE=URI;X-ADDRESS=3200 Gage Rd\, Firth\, Nebr
 aska\, 68358\, United States;X-APPLE-RADIUS=100;X-TITLE=Nebraska Shooters:
 geo:40.524337,-96.675525
END:VEVENT
BEGIN:VTIMEZONE
TZID:America/North_Dakota/Center
X-LIC-LOCATION:America/North_Dakota/Center
BEGIN:STANDARD
DTSTART:20171105T010000
TZOFFSETFROM:-0500
TZOFFSETTO:-0600
TZNAME:CST
END:STANDARD
END:VTIMEZONE
END:VCALENDAR