BEGIN:VCALENDAR
VERSION:2.0
PRODID:-//wp-events-plugin.com//7.2.3.1//EN
TZID:America/North_Dakota/Center
X-WR-TIMEZONE:America/North_Dakota/Center
BEGIN:VEVENT
UID:1117@nebraskashooters.com
DTSTART;TZID=America/North_Dakota/Center:20201120T160000
DTEND;TZID=America/North_Dakota/Center:20201122T170000
DTSTAMP:20201116T000612Z
URL:https://www.nebraskashooters.com/events/nra-pistol-instructor-training
 -11-20-20-11-22-20/
SUMMARY:NRA Pistol Instructor Training 11-20-20 & 11-22-20
DESCRIPTION:This weekend package includes all of the components necessary t
 o become an NRA Pistol Instructor.  If you are not currently an NRA membe
 r and would like to take advantage of the lower credentialing rates for me
 mbers\, it would be much more convenient if you obtained your NRA number p
 rior to class.  It is not required to be an NRA member to be an NRA instr
 uctor\, but it will save you money on your ongoing credentialing fees.\n\n
 Our NRA Pistol Instructor Training course is designed to develop NRA Certi
 fied Instructors who possess the knowledge\, skills\, and attitude necessa
 ry to conduct the NRA Basic Pistol Shooting Course. The Pistol Instructor 
 Training begins with our NRA Basic Instructor Training class\, then the Ba
 sics of Pistol Shooting Student Course\, and then the Pistol Instructor Tr
 aining.  These 3 classes together form the required course for NRA Pistol
  Instructor certification. (You are not considered an NRA Certified Instru
 ctor until the NRA Training Department processes your application and issu
 es your instructor credentials.)  This package includes the Basic Instruc
 tor Training (BIT)\, the Basics of Pistol Shooting Student Course and the 
 Pistol Instructor Training so no other courses will be required to obtain 
 your NRA Pistol Instructor Credentials after passing this course.\n\nNRA P
 istol Instructor certification is a requirement for becoming a Concealed
  Handgun Permit (CHP) Instructor in Nebraska\, Iowa\, Colorado\, Missouri
 \, and many other states. Remember that the individual states decide all m
 atters relating to their CHP programs including whether\, when\, and to wh
 om they issue Instructor certificates. You must apply directly to your sta
 te and meet their requirements for certification as a CHP instructor.\n\
 nThe Training Counselor (Terry Fitzgerald) for this course has been a Nebr
 aska Concealed Carry instructor for several years so if you are taking thi
 s class to prepare for becoming a concealed carry instructor you will be a
 ble to get many of your questions answered to make the journey much smoot
 her.\n\nThis is a full weekend which includes the Basic Instructor Trainin
 g and the Basic Pistol student course as well as the prequalification sho
 oting drills and the actual instructor course.\n\nYou will need to bring y
 our handgun and approximately 300 rounds of ammo (any caliber is acceptabl
 e) so you can demonstrate your ability to shoot to the standards required 
 to be an NRA instructor.  You will be required to shoot 16 out of 20 roun
 ds in a 6" groups on an 8" target from 15 yards.  You will be given two c
 hances every day if you do not accomplish this the first time.  We will h
 ave the range open on Friday evening for those who would like to get an ex
 tra two chances before class begins.  Please keep in mind that you will a
 lso be required to shoot the student course which consists of hitting 4" t
 argets from 10'\, 15'\, and 20'.  The instructor qualification target can
  be downloaded here for practice.\n\nNRA Instructor Qualification Target\n
 \nYou can pay for the class with credit card or debit card below or if you
  are going to pay by check please select the "Pay Instructor Directly" opt
 ion.  Your spot will not be reserved until the payment is received.\n\nTh
 e $300 includes the Basic Instructor Training (Friday evening)\, the Instr
 uctor-Led student course (Saturday)\, and the Pistol Instructor training (
 Sunday).  Classes start at 4:00 pm on Friday and 8:00 am on Saturday and 
 Sunday at the Omaha Gun Club at 2828 S 82nd Ave\, Omaha\, NE 68124\n\n&nbs
 p\;
ATTACH;FMTTYPE=image/jpeg:https://www.nebraskashooters.com/wp-content/uplo
 ads/2018/04/tc_logo.png
CATEGORIES:Everything,Nebraska Shooters Range,NRA Basic Instructor
 Training,NRA Instructor Courses,NRA Pistol Instructor Training,Southeast
LOCATION:Frontier Justice\, 2828 S 82nd Ave\, Omaha\, Nebraska\, 68124\, Do
 uglas County\, United States
GEO:41.233445;-96.040781
X-APPLE-STRUCTURED-LOCATION;VALUE=URI;X-ADDRESS=2828 S 82nd Ave\, Omaha\, N
 ebraska\, 68124\, Douglas County\, United States;X-APPLE-RADIUS=100;X-TITL
 E=Frontier Justice:geo:41.233445,-96.040781
END:VEVENT
BEGIN:VTIMEZONE
TZID:America/North_Dakota/Center
X-LIC-LOCATION:America/North_Dakota/Center
BEGIN:STANDARD
DTSTART:20201101T010000
TZOFFSETFROM:-0500
TZOFFSETTO:-0600
TZNAME:CST
END:STANDARD
END:VTIMEZONE
END:VCALENDAR