BEGIN:VCALENDAR
VERSION:2.0
PRODID:-//wp-events-plugin.com//7.2.3.1//EN
TZID:America/North_Dakota/Center
X-WR-TIMEZONE:America/North_Dakota/Center
BEGIN:VEVENT
UID:765@nebraskashooters.com
DTSTART;TZID=America/North_Dakota/Center:20190629T080000
DTEND;TZID=America/North_Dakota/Center:20190629T180000
DTSTAMP:20190117T210845Z
URL:https://www.nebraskashooters.com/events/nra-personal-protection-in-the
 -home-5/
SUMMARY:NRA Personal Protection In The Home
DESCRIPTION:Personal Protection In The Home (PPITH) takes you beyond the CH
 P and handgun basics to how you can protect yourself and your family in th
 e real world from home invasions and life-threatening intrusions. It's the
  second class in the NRA's Personal Protection sequence for civilians.\n\n
 When you complete our Personal Protection In The Home class you'll be well
  prepared to take the third step in the NRA's Personal Protection sequence
 : Personal Protection Outside The Home (Basic).\n\nThe goal of Personal Pr
 otection In The Home is to develop your basic knowledge\, skills\, and att
 itude essential to the safe and efficient use of a firearm for protectio
 n of yourself and your family in your home—and to provide you with knowl
 edge of your rights and responsibilities for self-defense as a law-abiding
  citizen at home.\n\nPlease bring a handgun\, holster\, at least 150 round
 s of ammo\, as well as eye and hearing protection.\n\nIf you are seeking t
 he NRA Instructor Course for this discipline\, please register for the ins
 tructor level listed on June 30th which includes this student course as we
 ll.\n\n&nbsp\;
ATTACH;FMTTYPE=image/jpeg:https://www.nebraskashooters.com/wp-content/uplo
 ads/2014/11/instrgif.gif
CATEGORIES:Defensive Pistol,Everything,Nebraska Shooters Range,NRA Student
 Courses,Personal Protection Inside the Home,Southeast
LOCATION:Nebraska Shooters\, 3200 Gage Rd\, Firth\, Nebraska\, 68358\, Unit
 ed States
GEO:40.524337;-96.675525
X-APPLE-STRUCTURED-LOCATION;VALUE=URI;X-ADDRESS=3200 Gage Rd\, Firth\, Nebr
 aska\, 68358\, United States;X-APPLE-RADIUS=100;X-TITLE=Nebraska Shooters:
 geo:40.524337,-96.675525
END:VEVENT
BEGIN:VTIMEZONE
TZID:America/North_Dakota/Center
X-LIC-LOCATION:America/North_Dakota/Center
BEGIN:DAYLIGHT
DTSTART:20190310T030000
TZOFFSETFROM:-0600
TZOFFSETTO:-0500
TZNAME:CDT
END:DAYLIGHT
END:VTIMEZONE
END:VCALENDAR