BEGIN:VCALENDAR
VERSION:2.0
PRODID:-//wp-events-plugin.com//7.2.3.1//EN
TZID:America/North_Dakota/Center
X-WR-TIMEZONE:America/North_Dakota/Center
BEGIN:VEVENT
UID:545@nebraskashooters.com
DTSTART;TZID=America/North_Dakota/Center:20180303T080000
DTEND;TZID=America/North_Dakota/Center:20180303T180000
DTSTAMP:20171128T174205Z
URL:https://www.nebraskashooters.com/events/nra-personal-protection-home-5
 /
SUMMARY:NRA Personal Protection In The Home
DESCRIPTION:\n	Personal Protection In The Home (PPITH) takes you beyond the
  CHP and handgun basics to how you can protect yourself and your family in
  the real world from home invasions and life-threatening intrusions. It&#3
 9\;s the second class in the NRA&#39\;s Personal Protection sequence for c
 ivilians.\n\n\n\n	When you complete our Personal Protection In The Home cl
 ass you&#39\;ll be well prepared to take the third step in the NRA&#39\;s 
 Personal Protection sequence: Personal Protection Outside The Home (Basic)
 .\n\n\n\n	The goal of Personal Protection In The Home is to develop your b
 asic knowledge\, skills\, and attitude essential to the safe&nbsp\;and eff
 icient&nbsp\;use of a firearm for protection of yourself and your family i
 n your home&mdash\;and to provide you with knowledge of your rights and re
 sponsibilities for self-defense as a law-abiding citizen at home.\n\n\n\n	
 Please bring a handgun\, holster\, at least 150 rounds of ammo\, as well a
 s eye and hearing protection.\n\n\n\n	If you are seeking the NRA Instructo
 r Course for this dicipline\, please register for the instructor level lis
 ted on March 4th&nbsp\;which includes this student course as well.&nbsp\;\
 n\n\n\n	&nbsp\;\n\n
ATTACH;FMTTYPE=image/jpeg:https://www.nebraskashooters.com/wp-content/uplo
 ads/2014/11/instrgif.gif
CATEGORIES:Defensive Pistol,Everything,Nebraska Shooters Range,NRA Student
 Courses,Personal Protection Inside the Home,Southeast
LOCATION:Nebraska Shooters\, 3200 Gage Rd\, Firth\, Nebraska\, 68358\, Unit
 ed States
GEO:40.524337;-96.675525
X-APPLE-STRUCTURED-LOCATION;VALUE=URI;X-ADDRESS=3200 Gage Rd\, Firth\, Nebr
 aska\, 68358\, United States;X-APPLE-RADIUS=100;X-TITLE=Nebraska Shooters:
 geo:40.524337,-96.675525
END:VEVENT
BEGIN:VTIMEZONE
TZID:America/North_Dakota/Center
X-LIC-LOCATION:America/North_Dakota/Center
BEGIN:STANDARD
DTSTART:20171105T010000
TZOFFSETFROM:-0500
TZOFFSETTO:-0600
TZNAME:CST
END:STANDARD
END:VTIMEZONE
END:VCALENDAR