BEGIN:VCALENDAR
VERSION:2.0
PRODID:-//wp-events-plugin.com//7.2.3.1//EN
TZID:America/North_Dakota/Center
X-WR-TIMEZONE:America/North_Dakota/Center
BEGIN:VEVENT
UID:522@nebraskashooters.com
DTSTART;TZID=America/North_Dakota/Center:20180317T080000
DTEND;TZID=America/North_Dakota/Center:20180318T180000
DTSTAMP:20180201T172918Z
URL:https://www.nebraskashooters.com/events/nra-muzzle-loader-instructor-c
 ourse/
SUMMARY:NRA Muzzle Loader Instructor Course
DESCRIPTION:NRA Muzzle Loader Instructor Course\nInstructed&nbsp\;by Terry 
 Lane Fitzgerald\n\nThe goal of this course is develop instructors with the
  Knowledge\, Skills and Attitude to effectively teach students to handle a
 nd fire muzzle loader pistols\, rifles\, and shotguns.&nbsp\; We will be c
 overing all three disciplines throughout the week.\n\nThis will be a very 
 informative course even for those who are already familiar with muzzle loa
 ders.&nbsp\; This course is seldom available in the Nebraska area so pleas
 e take advantage of this opportunity to get your credentials.\n\nFeel free
  to bring your own muzzleloaders\, but we will have a variety available fo
 r students to complete the course.\n\nInstructors who have not taken the B
 asic Instructor Training or have not kept it current will need to do so in
  conjunction with this class. If you need your Basic Instructor Training\,
  please let us know and we can slip you into the BIT course for one of the
  upcoming instructor courses or scedule a special session on the evening o
 f March 16th..\n\nThis course will be taught by Terry Lane Fitzgerald.\n\n
 Please sign up as early as possible so we can make appropriate adjustments
  to meet your needs.\n\nWe have on-site accomodations available in the bun
 khouse if you would like to reserve a room.&nbsp\; It is first come first 
 serve and no additional charge.\n\n&nbsp\;\n\n&nbsp\;
ATTACH;FMTTYPE=image/jpeg:https://www.nebraskashooters.com/wp-content/uplo
 ads/2017/09/images-1.jpg
CATEGORIES:Defensive Pistol,Everything,Muzzle Loading,Nebraska Shooters
 Range,NRA Instructor Courses,Southeast
LOCATION:Nebraska Shooters\, 3200 Gage Rd\, Firth\, Nebraska\, 68358\, Unit
 ed States
GEO:40.524337;-96.675525
X-APPLE-STRUCTURED-LOCATION;VALUE=URI;X-ADDRESS=3200 Gage Rd\, Firth\, Nebr
 aska\, 68358\, United States;X-APPLE-RADIUS=100;X-TITLE=Nebraska Shooters:
 geo:40.524337,-96.675525
END:VEVENT
BEGIN:VTIMEZONE
TZID:America/North_Dakota/Center
X-LIC-LOCATION:America/North_Dakota/Center
BEGIN:DAYLIGHT
DTSTART:20180311T030000
TZOFFSETFROM:-0600
TZOFFSETTO:-0500
TZNAME:CDT
END:DAYLIGHT
END:VTIMEZONE
END:VCALENDAR