BEGIN:VCALENDAR
VERSION:2.0
PRODID:-//wp-events-plugin.com//7.2.3.1//EN
TZID:America/North_Dakota/Center
X-WR-TIMEZONE:America/North_Dakota/Center
BEGIN:VEVENT
UID:1178@nebraskashooters.com
DTSTART;TZID=America/North_Dakota/Center:20210220T080000
DTEND;TZID=America/North_Dakota/Center:20210220T160000
DTSTAMP:20210218T224655Z
URL:https://www.nebraskashooters.com/events/nra-metallic-reloading-7/
SUMMARY:NRA Metallic Reloading
DESCRIPTION:NRA Metallic Cartridge Reloading\n(POSTPONED)\n\nTaught by Rand
 y Feese.\n\nThis course is approximately eight hours in length and is cond
 ucted in a classroom with testing on the range. Each student is taught rel
 oading safety\; centerfire cartridge components\; using the reloading manu
 al and reloading data\; equipment\; and the metallic cartridge reloading p
 rocess. Students will receive the NRA Guide to Reloading handbook\, the Ba
 sic Reloading Student Exam\, a course completion certificate\, NRA Gun Saf
 ety Rules brochure\, a Basic Firearm Training Program brochure\, an Instru
 ctor Application/Course Evaluation form. Following the NRA course you will
  be given the opportunity to apply what you have learned and test your rou
 nds.\n\nPlease sign up early so we can get the proper amount of material p
 repared for the course.\n\nUpon registration\, we will be contacting you t
 o see what caliber you prefer to reload so we can prepare accordingly. Ple
 ase bring a sack lunch.\n\n&nbsp\;
ATTACH;FMTTYPE=image/jpeg:https://www.nebraskashooters.com/wp-content/uplo
 ads/2017/01/Nebraska-Shooters-PF-1-Billboard.jpg
CATEGORIES:Everything,Metallic Reloading,NRA Student Courses,Southeast
LOCATION:Nebraska Shooters\, 3200 Gage Rd\, Firth\, Nebraska\, 68358\, Unit
 ed States
GEO:40.524337;-96.675525
X-APPLE-STRUCTURED-LOCATION;VALUE=URI;X-ADDRESS=3200 Gage Rd\, Firth\, Nebr
 aska\, 68358\, United States;X-APPLE-RADIUS=100;X-TITLE=Nebraska Shooters:
 geo:40.524337,-96.675525
END:VEVENT
BEGIN:VTIMEZONE
TZID:America/North_Dakota/Center
X-LIC-LOCATION:America/North_Dakota/Center
BEGIN:STANDARD
DTSTART:20201101T010000
TZOFFSETFROM:-0500
TZOFFSETTO:-0600
TZNAME:CST
END:STANDARD
END:VTIMEZONE
END:VCALENDAR