BEGIN:VCALENDAR
VERSION:2.0
PRODID:-//wp-events-plugin.com//7.2.3.1//EN
TZID:America/North_Dakota/Center
X-WR-TIMEZONE:America/North_Dakota/Center
BEGIN:VEVENT
UID:1112@nebraskashooters.com
DTSTART;TZID=America/North_Dakota/Center:20210116T080000
DTEND;TZID=America/North_Dakota/Center:20210116T160000
DTSTAMP:20210107T183249Z
URL:https://www.nebraskashooters.com/events/nra-metallic-reloading-6/
SUMMARY:NRA Metallic Reloading
DESCRIPTION:NRA Metallic Cartridge Reloading\nTaught by Randy Feese.\n\n(Th
 is class is sold out for this date\, but we have another scheduled in Febr
 uary.  Please click here to see the February class)\n\nThis course is app
 roximately eight hours in length and is conducted in a classroom with test
 ing on the range. Each student is taught reloading safety\; centerfire car
 tridge components\; using the reloading manual and reloading data\; equipm
 ent\; and the metallic cartridge reloading process. Students will receive 
 the NRA Guide to Reloading handbook\, the Basic Reloading Student Exam\, a
  course completion certificate\, NRA Gun Safety Rules brochure\, a Basic F
 irearm Training Program brochure\, an Instructor Application/Course Evalua
 tion form. Following the NRA course you will be given the opportunity to a
 pply what you have learned and test your rounds.\n\nPlease sign up early s
 o we can get the proper amount of material prepared for the course.  We n
 eed to get at least 5 students committed by 1/1/21 or we will reschedule t
 he class.  Anyone who has signed up will receive a full refund if the cla
 ss is cancelled or rescheduled.\n\nUpon registration\, we will be contacti
 ng you to see what caliber you prefer to reload so we can prepare accordin
 gly. Please bring a sack lunch.\n\n&nbsp\;
ATTACH;FMTTYPE=image/jpeg:https://www.nebraskashooters.com/wp-content/uplo
 ads/2017/01/Nebraska-Shooters-PF-1-Billboard.jpg
CATEGORIES:Everything,Metallic Reloading,NRA Student Courses,Southeast
LOCATION:Nebraska Shooters\, 3200 Gage Rd\, Firth\, Nebraska\, 68358\, Unit
 ed States
GEO:40.524337;-96.675525
X-APPLE-STRUCTURED-LOCATION;VALUE=URI;X-ADDRESS=3200 Gage Rd\, Firth\, Nebr
 aska\, 68358\, United States;X-APPLE-RADIUS=100;X-TITLE=Nebraska Shooters:
 geo:40.524337,-96.675525
END:VEVENT
BEGIN:VTIMEZONE
TZID:America/North_Dakota/Center
X-LIC-LOCATION:America/North_Dakota/Center
BEGIN:STANDARD
DTSTART:20201101T010000
TZOFFSETFROM:-0500
TZOFFSETTO:-0600
TZNAME:CST
END:STANDARD
END:VTIMEZONE
END:VCALENDAR