BEGIN:VCALENDAR
VERSION:2.0
PRODID:-//wp-events-plugin.com//7.2.3.1//EN
TZID:America/North_Dakota/Center
X-WR-TIMEZONE:America/North_Dakota/Center
BEGIN:VEVENT
UID:744@nebraskashooters.com
DTSTART;TZID=America/North_Dakota/Center:20190223T080000
DTEND;TZID=America/North_Dakota/Center:20190223T160000
DTSTAMP:20190115T133403Z
URL:https://www.nebraskashooters.com/events/nra-metallic-reloading-5/
SUMMARY:NRA Metallic Reloading
DESCRIPTION:NRA Metallic Cartridge Reloading\nTaught by Randy Feese.\n\nThi
 s course is approximately eight hours in length and is conducted in a clas
 sroom with testing on the range. Each student is taught reloading safety\;
  centerfire cartridge components\; using the reloading manual and reloadin
 g data\; equipment\; and the metallic cartridge reloading process. Student
 s will receive the NRA Guide to Reloading handbook\, the Basic Reloading S
 tudent Exam\, a course completion certificate\, NRA Gun Safety Rules broch
 ure\, a Basic Firearm Training Program brochure\, an Instructor Applicatio
 n/Course Evaluation form. Following the NRA course you will be given the o
 pportunity to apply what you have learned and test your rounds.\n\nPlease 
 sign up early so we can get the proper amount of material prepared for the
  course.  We need to get at least 5 students committed by 1/15/19 or we w
 ill reschedule the class.  Anyone who has signed up will receive a full r
 efund if the class is cancelled or rescheduled.  Visa and Mastercard are
  accepted below.\n\n&nbsp\;
ATTACH;FMTTYPE=image/jpeg:https://www.nebraskashooters.com/wp-content/uplo
 ads/2017/01/Nebraska-Shooters-PF-1-Billboard.jpg
CATEGORIES:Everything,Metallic Reloading,NRA Student Courses,Southeast
LOCATION:Nebraska Shooters\, 3200 Gage Rd\, Firth\, Nebraska\, 68358\, Unit
 ed States
GEO:40.524337;-96.675525
X-APPLE-STRUCTURED-LOCATION;VALUE=URI;X-ADDRESS=3200 Gage Rd\, Firth\, Nebr
 aska\, 68358\, United States;X-APPLE-RADIUS=100;X-TITLE=Nebraska Shooters:
 geo:40.524337,-96.675525
END:VEVENT
BEGIN:VTIMEZONE
TZID:America/North_Dakota/Center
X-LIC-LOCATION:America/North_Dakota/Center
BEGIN:STANDARD
DTSTART:20181104T010000
TZOFFSETFROM:-0500
TZOFFSETTO:-0600
TZNAME:CST
END:STANDARD
END:VTIMEZONE
END:VCALENDAR