BEGIN:VCALENDAR
VERSION:2.0
PRODID:-//wp-events-plugin.com//7.2.3.1//EN
TZID:America/North_Dakota/Center
X-WR-TIMEZONE:America/North_Dakota/Center
BEGIN:VEVENT
UID:531@nebraskashooters.com
DTSTART;TZID=America/North_Dakota/Center:20180120T080000
DTEND;TZID=America/North_Dakota/Center:20180120T160000
DTSTAMP:20180112T194705Z
URL:https://www.nebraskashooters.com/events/nra-metallic-reloading-4/
SUMMARY:NRA Metallic Reloading
DESCRIPTION:\n	NRA Metallic Cartridge Reloading\n\n\n\n	Taught by Randy Fee
 se.\n\n\n\n	This class has been postponed. The new date will be posted as 
 soon as we find a good date for everyone.\n\n\n\n	This course is approxima
 tely eight hours in length and is conducted in a classroom with testing on
  the range. Each student is taught reloading safety\; centerfire cartridge
  components\; using the reloading manual and reloading data\; equipment\; 
 and the metallic cartridge reloading process. Students will receive the NR
 A Guide to Reloading handbook\, the Basic Reloading Student Exam\, a cours
 e completion certificate\, NRA Gun Safety Rules brochure\, a Basic Firearm
  Training Program brochure\, an Instructor Application/Course Evaluation f
 orm. Following the NRA course you will be given the opportunity to apply w
 hat you have learned and test your rounds.\n\n\n\n	Please sign up early so
  we can get the proper amount of material prepared for the course.&nbsp\; 
 We need to get at least 5 students committed by 1/15/18 or we will resched
 ule the class.&nbsp\; Anyone who has signed up will receive a full refund 
 if the class is cancelled or rescheduled.&nbsp\;&nbsp\;Visa and Mastercard
  are accepted below.\n\n\n\n	&nbsp\;\n\n
ATTACH;FMTTYPE=image/jpeg:https://www.nebraskashooters.com/wp-content/uplo
 ads/2017/01/Nebraska-Shooters-PF-1-Billboard.jpg
CATEGORIES:Everything,Metallic Reloading,NRA Student Courses,Southeast
LOCATION:Nebraska Shooters\, 3200 Gage Rd\, Firth\, Nebraska\, 68358\, Unit
 ed States
GEO:40.524337;-96.675525
X-APPLE-STRUCTURED-LOCATION;VALUE=URI;X-ADDRESS=3200 Gage Rd\, Firth\, Nebr
 aska\, 68358\, United States;X-APPLE-RADIUS=100;X-TITLE=Nebraska Shooters:
 geo:40.524337,-96.675525
END:VEVENT
BEGIN:VTIMEZONE
TZID:America/North_Dakota/Center
X-LIC-LOCATION:America/North_Dakota/Center
BEGIN:STANDARD
DTSTART:20171105T010000
TZOFFSETFROM:-0500
TZOFFSETTO:-0600
TZNAME:CST
END:STANDARD
END:VTIMEZONE
END:VCALENDAR