BEGIN:VCALENDAR
VERSION:2.0
PRODID:-//wp-events-plugin.com//7.2.3.1//EN
TZID:America/North_Dakota/Center
X-WR-TIMEZONE:America/North_Dakota/Center
BEGIN:VEVENT
UID:536@nebraskashooters.com
DTSTART;TZID=America/North_Dakota/Center:20180811T080000
DTEND;TZID=America/North_Dakota/Center:20180811T160000
DTSTAMP:20180814T010334Z
URL:https://www.nebraskashooters.com/events/nra-defensive-pistol-9/
SUMMARY:NRA Defensive Pistol
DESCRIPTION:NRA Defensive Handgun\nInstructed by Justin Grusing\nProceeds w
 ill go to the Sesostris Gun Club\n\n\nThe NRA Defensive Pistol Course is c
 onducted by a select group of NRA Advanced Pistol Instructors. The trainin
 g is objective based and will focus on the development of a defensive mind
 set. The goal of the course will be to develop the knowledge\, skills\, an
 d attitude to carry and use a concealed pistol ethically\, responsibly\, 
 and with confidence. The course is a follow-on course to the NRA Basic Pis
 tol or FIRST Steps Pistol Shooting Course\, but can be taken after a short
  prequal to verify you have a basic understanding of proper gun handling. 
 Upon successful completion of this training\, students should know and be 
 able to demonstrate a number of defensive pistol techniques and shoot a ti
 med qualification course of fire.\n\nIt is nothing like any of the other N
 RA pistol classes. For one thing\, there will be no written quiz. This cla
 ss is more of a mentoring class with lots of hands-on training\, drills an
 d lots of shooting. We will keep the student to instructor ratio very low 
 for this class so you will have plenty of instruction.\n\nYou will need to
  bring approximately 400 rounds of ammo and a secure dominant-side holster
  as well as your handgun and eye and ear protection\n\nThose who have not 
 already completed their Basic Pistol will need to make arrangements to com
 e in prior to class and do a pre-course assessment.\n\nFor More Details go
  HERE\n\nThis is a great option to continue your training after getting yo
 ur CCW.\n\n
ATTACH;FMTTYPE=image/jpeg:https://www.nebraskashooters.com/wp-content/uplo
 ads/2017/10/nslogocomeseethediff-e1533331664305.jpg
CATEGORIES:Defensive Pistol,Everything,Fund Raiser,Nebraska Shooters
 Range,NRA Student Courses,Southeast
LOCATION:Nebraska Shooters\, 3200 Gage Rd\, Firth\, Nebraska\, 68358\, Unit
 ed States
GEO:40.524337;-96.675525
X-APPLE-STRUCTURED-LOCATION;VALUE=URI;X-ADDRESS=3200 Gage Rd\, Firth\, Nebr
 aska\, 68358\, United States;X-APPLE-RADIUS=100;X-TITLE=Nebraska Shooters:
 geo:40.524337,-96.675525
END:VEVENT
BEGIN:VTIMEZONE
TZID:America/North_Dakota/Center
X-LIC-LOCATION:America/North_Dakota/Center
BEGIN:DAYLIGHT
DTSTART:20180311T030000
TZOFFSETFROM:-0600
TZOFFSETTO:-0500
TZNAME:CDT
END:DAYLIGHT
END:VTIMEZONE
END:VCALENDAR