BEGIN:VCALENDAR
VERSION:2.0
PRODID:-//wp-events-plugin.com//7.2.3.1//EN
TZID:America/North_Dakota/Center
X-WR-TIMEZONE:America/North_Dakota/Center
BEGIN:VEVENT
UID:535@nebraskashooters.com
DTSTART;TZID=America/North_Dakota/Center:20180128T080000
DTEND;TZID=America/North_Dakota/Center:20180128T180000
DTSTAMP:20171227T012624Z
URL:https://www.nebraskashooters.com/events/nra-chief-range-safety-officer
 -4/
SUMMARY:NRA Chief Range Safety Officer
DESCRIPTION:\n	This course is approximately nine hours long and is conducte
 d in a classroom and at a shooting facility. The CRSO class enables&nbsp\;
 you to conduct classes for RSO candidates.&nbsp\;This class includes the B
 asic Instructor Training section on Sunday morning and if you do nor curre
 ntly have your RSO certification\, you will need to come on Saturday and g
 et certified as an RSO.&nbsp\; You can get a discount on the RSO class if 
 you add it below when you sign up for the CRSO course.&nbsp\;&nbsp\;Lunch 
 and materials are provided\,\n\n\n\n	Range Safety Officer candidates will 
 learn roles and responsibilities of an RSO\; Range Standard Operating Proc
 edures (SOPs)\; range inspection\; range rules\; range briefings\; emergen
 cy procedures\; and firearm stoppages and malfunctions. Each Range Safety 
 Officer Candidate will receive an RSO Student Study Guide\, a Basic Firear
 m Training Program brochure\, an NRA Gun Safety Rules brochure\, an Instru
 ctor Application/Course Evaluation form.\n\n\n\n	NRA Range Safety Officers
  possess the knowledge\, skills\, and attitude essential to organizing\, c
 onducting\, and supervising safe shooting activities and range operations 
 indoors and outdoors.\n\n\n\n	The NRA developed its program in response to
  the demand for a nationally-recognized Range Safety Officer (&quot\;RSO&q
 uot\;) certification. Our class and the certification should be especially
  valuable to firearms instructors including CHP instructors.\n\n
ATTACH;FMTTYPE=image/jpeg:https://www.nebraskashooters.com/wp-content/uplo
 ads/2015/01/rso.gif
CATEGORIES:Chief Range Safety Officer,Everything,Nebraska Shooters
 Range,NRA Instructor Courses,NRA Student Courses,Range Safety
 Officer,Southeast
LOCATION:Nebraska Shooters\, 3200 Gage Rd\, Firth\, Nebraska\, 68358\, Unit
 ed States
GEO:40.524337;-96.675525
X-APPLE-STRUCTURED-LOCATION;VALUE=URI;X-ADDRESS=3200 Gage Rd\, Firth\, Nebr
 aska\, 68358\, United States;X-APPLE-RADIUS=100;X-TITLE=Nebraska Shooters:
 geo:40.524337,-96.675525
END:VEVENT
BEGIN:VTIMEZONE
TZID:America/North_Dakota/Center
X-LIC-LOCATION:America/North_Dakota/Center
BEGIN:STANDARD
DTSTART:20171105T010000
TZOFFSETFROM:-0500
TZOFFSETTO:-0600
TZNAME:CST
END:STANDARD
END:VTIMEZONE
END:VCALENDAR