BEGIN:VCALENDAR
VERSION:2.0
PRODID:-//wp-events-plugin.com//7.2.3.1//EN
TZID:America/North_Dakota/Center
X-WR-TIMEZONE:America/North_Dakota/Center
BEGIN:VEVENT
UID:1179@nebraskashooters.com
DTSTART;TZID=America/North_Dakota/Center:20210124T080000
DTEND;TZID=America/North_Dakota/Center:20210124T180000
DTSTAMP:20210121T201017Z
URL:https://www.nebraskashooters.com/events/nra-chief-range-safety-officer
 -10/
SUMMARY:NRA Chief Range Safety Officer
DESCRIPTION:This course is approximately nine hours long and is conducted i
 n a classroom at the Nebraska Shooters Training facility near Firth\, NE. 
 The CRSO certification enables you to conduct classes for RSO candidates.
   If you have not had a Basic Instructor Training (BIT) course in the pre
 vious 2 years\, remember a BIT course is required to obtain your CRSO cred
 entials.\n\nIf you do not currently have your RSO certification\, you will
  need to come to Nebraska Shooters' facility on 1/23/21 and add the RSO co
 urse to your registration below.\n\nRange Safety Officer candidates will l
 earn roles and responsibilities of an RSO\; Range Standard Operating Proce
 dures (SOPs)\; range inspection\; range rules\; range briefings\; emergenc
 y procedures\; and firearm stoppages and malfunctions. Each Range Safety O
 fficer Candidate will receive an RSO Student Study Guide\, a Basic Firearm
  Training Program brochure\, an NRA Gun Safety Rules brochure\, an Instruc
 tor Application/Course Evaluation form.\n\nNRA Range Safety Officers posse
 ss the knowledge\, skills\, and attitude essential to organizing\, conduct
 ing\, and supervising safe shooting activities and range operations indoor
 s and outdoors.\n\nThe NRA developed its program in response to the demand
  for a nationally-recognized Range Safety Officer ("RSO") certification. O
 ur class and the certification should be especially valuable to firearms i
 nstructors including CHP instructors.\n\nIn review\, If you do not have an
 y current credentials\, you will need the RSO(1/23/21)\, BIT (1/23/21)\, a
 nd CRSO(1/24/2021) course to become a CRSO.  If you are currently an inst
 ructor and you have had your BIT within the past 2 years\, you can skip th
 e BIT.  If you are a current RSO and you have  completed the BIT in the 
 past 2 years you will only need the 1/24/21 CRSO course.
ATTACH;FMTTYPE=image/jpeg:https://www.nebraskashooters.com/wp-content/uplo
 ads/2015/01/rso.gif
CATEGORIES:Chief Range Safety Officer,Everything,NRA Instructor
 Courses,NRA Student Courses,Range Safety Officer,Southeast
LOCATION:Nebraska Shooters\, 3200 Gage Rd\, Firth\, Nebraska\, 68358\, Unit
 ed States
GEO:40.524337;-96.675525
X-APPLE-STRUCTURED-LOCATION;VALUE=URI;X-ADDRESS=3200 Gage Rd\, Firth\, Nebr
 aska\, 68358\, United States;X-APPLE-RADIUS=100;X-TITLE=Nebraska Shooters:
 geo:40.524337,-96.675525
END:VEVENT
BEGIN:VTIMEZONE
TZID:America/North_Dakota/Center
X-LIC-LOCATION:America/North_Dakota/Center
BEGIN:STANDARD
DTSTART:20201101T010000
TZOFFSETFROM:-0500
TZOFFSETTO:-0600
TZNAME:CST
END:STANDARD
END:VTIMEZONE
END:VCALENDAR