BEGIN:VCALENDAR
VERSION:2.0
PRODID:-//wp-events-plugin.com//7.2.3.1//EN
TZID:America/North_Dakota/Center
X-WR-TIMEZONE:America/North_Dakota/Center
BEGIN:VEVENT
UID:1101@nebraskashooters.com
DTSTART;TZID=America/North_Dakota/Center;VALUE=DATE:20200915
DTEND;TZID=America/North_Dakota/Center;VALUE=DATE:20200916
DTSTAMP:20200916T132324Z
URL:https://www.nebraskashooters.com/events/nebraska-concealed-handgun-tra
 ining-87/
SUMMARY:Nebraska Concealed Handgun Training
DESCRIPTION:Come and get your Concealed Carry Certification in the comfort 
 of an indoor range conveniently located in Lincoln Nebraska.  It is typic
 ally an 8 hour class and lunch is provided.  You will need to bring a han
 dgun\, holster\, 100 rounds of ammunition\, eye and hearing protection.\n\
 nThe cost of the class is $150\n\nYou will also be offered the option to g
 et your Minnesota certification immediately following the Nebraska portion
  of the class if you wish for a mere $35.  If you already have your Nebra
 ska Concealed Carry course done and you took it with us\, you can come bac
 k and take this short course to obtain your Utah certification.\n\nPlease 
 register at Bigshots Indoor Range in Lincoln.\n\n&nbsp\;
ATTACH;FMTTYPE=image/jpeg:https://www.nebraskashooters.com/wp-content/uplo
 ads/2014/12/images-11.jpg
CATEGORIES:Bigshots,Everything,Nebraska Concealed Handgun
 Training,Southeast
LOCATION:BigShots Indoor Range\, 399 Sun Valley Blvd\, Lincoln\, Nebraska\,
  United States
GEO:40.8164752;-96.7244872
X-APPLE-STRUCTURED-LOCATION;VALUE=URI;X-ADDRESS=399 Sun Valley Blvd\, Linco
 ln\, Nebraska\, United States;X-APPLE-RADIUS=100;X-TITLE=BigShots Indoor R
 ange:geo:40.8164752,-96.7244872
END:VEVENT
BEGIN:VTIMEZONE
TZID:America/North_Dakota/Center
X-LIC-LOCATION:America/North_Dakota/Center
BEGIN:DAYLIGHT
DTSTART:20200308T030000
TZOFFSETFROM:-0600
TZOFFSETTO:-0500
TZNAME:CDT
END:DAYLIGHT
END:VTIMEZONE
END:VCALENDAR