BEGIN:VCALENDAR
VERSION:2.0
PRODID:-//wp-events-plugin.com//7.2.3.1//EN
TZID:America/North_Dakota/Center
X-WR-TIMEZONE:America/North_Dakota/Center
BEGIN:VEVENT
UID:14@nebraskashooters.com
DTSTART;TZID=America/North_Dakota/Center:20141213T090000
DTEND;TZID=America/North_Dakota/Center:20141213T170000
DTSTAMP:20181112T203331Z
URL:https://www.nebraskashooters.com/events/nebraska-concealed-handgun-tra
 ining-6/
SUMMARY:Nebraska Concealed Handgun Training
DESCRIPTION:Nebraska Concealed Handgun Training taught by Justin Grusing. T
 his is the course required by the State of Nebraska to satisfy the trainin
 g requirements to get your Concealed Handgun Permit (CHP). After years of 
 refinement our instructors have developed a course that is easy for the ne
 w shooter to understand while still offering excellent information to the 
 experienced shooters. The Nebraska Conceal Handgun Training will meet req
 uirements to get your Nebraska permit as well as your Florida or Arizona n
 on-resident permit. Nebraska's permit will enable legal concealed carry in
  32 states. The Arizona and Florida non-resident permits add a few more. T
 he list of states is slightly different for each permit so check out the r
 eciprocity page for more details. This class will also meet the requiremen
 ts for Iowa or Colorado residents to get their concealed carry permit. Thi
 s is a non-NRA course taught by an NRA Certified Instructor in strict acco
 rdance with a state-approved lesson plan.\n\nIt is recommended that you br
 ing 100 rounds of ammo and your favorite handgun with a dominant-side hols
 ter.  You will also need eye and hearing protection.  Lunch is provided\
 , but you are always welcome to bring your own if you have dietary restric
 tions.\n\nYou will also be able to stay for an additional session after th
 e Nebraska class to get your Utah Non-Resident permit for an additional $3
 5 if you wish.
CATEGORIES:Nebraska Concealed Handgun Training
LOCATION:Nebraska Shooters\, 3200 Gage Rd\, Firth\, Nebraska\, 68358\, Unit
 ed States
GEO:40.524337;-96.675525
X-APPLE-STRUCTURED-LOCATION;VALUE=URI;X-ADDRESS=3200 Gage Rd\, Firth\, Nebr
 aska\, 68358\, United States;X-APPLE-RADIUS=100;X-TITLE=Nebraska Shooters:
 geo:40.524337,-96.675525
END:VEVENT
BEGIN:VTIMEZONE
TZID:America/North_Dakota/Center
X-LIC-LOCATION:America/North_Dakota/Center
BEGIN:STANDARD
DTSTART:20141102T010000
TZOFFSETFROM:-0500
TZOFFSETTO:-0600
TZNAME:CST
END:STANDARD
END:VTIMEZONE
END:VCALENDAR