BEGIN:VCALENDAR
VERSION:2.0
PRODID:-//wp-events-plugin.com//7.2.3.1//EN
TZID:America/North_Dakota/Center
X-WR-TIMEZONE:America/North_Dakota/Center
BEGIN:VEVENT
UID:1991@nebraskashooters.com
DTSTART;TZID=America/North_Dakota/Center;VALUE=DATE:20260215
DTEND;TZID=America/North_Dakota/Center;VALUE=DATE:20260216
DTSTAMP:20260215T140146Z
URL:https://www.nebraskashooters.com/events/nebraska-concealed-handgun-tra
 ining-154/
SUMMARY:Nebraska Concealed Handgun Training
DESCRIPTION:Come and get your Concealed Carry Certification in the comfort 
 of an indoor range conveniently located in Lincoln Nebraska.  It is typic
 ally an 8 hour class and lunch is provided.  You will need to bring a han
 dgun\, holster\, 100 rounds of ammunition\, eye and hearing protection.\n\
 nThe cost of the class is $150\n\nYou will also be offered the option to g
 et your Minnesota certification immediately following the Nebraska portion
  of the class if you wish for a mere $35.\n\nPlease register at Bigshots I
 ndoor Range in Lincoln.\n\n&nbsp\;
ATTACH;FMTTYPE=image/jpeg:https://www.nebraskashooters.com/wp-content/uplo
 ads/2014/12/images-11.jpg
CATEGORIES:Bigshots,Everything,Nebraska Concealed Handgun
 Training,Southeast
LOCATION:BigShots Indoor Range\, 399 Sun Valley Blvd\, Lincoln\, Nebraska\,
  United States
GEO:40.8164752;-96.7244872
X-APPLE-STRUCTURED-LOCATION;VALUE=URI;X-ADDRESS=399 Sun Valley Blvd\, Linco
 ln\, Nebraska\, United States;X-APPLE-RADIUS=100;X-TITLE=BigShots Indoor R
 ange:geo:40.8164752,-96.7244872
END:VEVENT
BEGIN:VTIMEZONE
TZID:America/North_Dakota/Center
X-LIC-LOCATION:America/North_Dakota/Center
BEGIN:STANDARD
DTSTART:20251102T010000
TZOFFSETFROM:-0500
TZOFFSETTO:-0600
TZNAME:CST
END:STANDARD
END:VTIMEZONE
END:VCALENDAR